| Back to the "Multiple platform build/check report" |
| Package 10/55 | Hostname | OS / Arch | BUILD | CHECK | BUILD BIN | ||||
| colonCA 1.4.2 W Sylvia Merk
| lamb1 | Linux (SUSE 10.1) / x86_64 | OK | OK | |||||
| lemming | Windows Server 2003 (32-bit) / x64 | OK | OK | OK | |||||
| pitt | Mac OS X Tiger (10.4.11) / i386 | [ OK ] | OK | OK |
| Package: colonCA |
| Version: 1.4.2 |
| Command: /Library/Frameworks/R.framework/Resources/bin/R CMD build colonCA |
| StartedAt: 2008-04-10 00:54:59 -0700 (Thu, 10 Apr 2008) |
| EndedAt: 2008-04-10 00:55:09 -0700 (Thu, 10 Apr 2008) |
| EllapsedTime: 9.8 seconds |
| RetCode: 0 |
| Status: OK |
| PackageFile: colonCA_1.4.2.tar.gz |
| PackageFileSize: 782.9 KiB |
* checking for file 'colonCA/DESCRIPTION' ... OK * preparing 'colonCA': * checking DESCRIPTION meta-information ... OK * removing junk files * checking for LF line-endings in source and make files * checking for empty or unneeded directories * building 'colonCA_1.4.2.tar.gz'