| colonCA 1.4.2 W Sylvia Merk
 
 | Snapshot Date: 2008-04-10 00:02:38 -0700 (Thu, 10 Apr 2008) |  | URL: https://hedgehog.fhcrc.org/bioc-data/trunk/experiment/pkgs/colonCA |  | Last Changed Rev: 463 / Revision: 624 |  | Last Changed Date: 2007-09-15 19:52:14 -0700 (Sat, 15 Sep 2007) | 
 | lamb1 | Linux (SUSE 10.1) / x86_64 | OK | OK |  | 
| lemming | Windows Server 2003 (32-bit) / x64 | OK | OK | OK | 
| pitt | Mac OS X Tiger (10.4.11) / i386 | OK | OK | [ OK ] | 
                INSTALLATION WITH 'R CMD INSTALL colonCA_1.4.2.tar.gz'
* Installing to library 'colonCA.buildbin-libdir'
* Installing *source* package 'colonCA' ...
** R
** data
** help
 >>> Building/Updating help pages for package 'colonCA'
     Formats: text html latex example 
  colonCA                           text    html    latex   example
** building package indices ...
Loading required package: methods
* DONE (colonCA)