| timecourse 1.10.0 Yu Chuan Tai
 
 | Snapshot Date: 2008-04-09 12:13:20 -0700 (Wed, 09 Apr 2008) |  | URL: https://hedgehog.fhcrc.org/bioconductor/branches/RELEASE_2_1/madman/Rpacks/timecourse |  | Last Changed Rev: 27709 / Revision: 30966 |  | Last Changed Date: 2007-10-02 17:41:09 -0700 (Tue, 02 Oct 2007) | 
 | lamb1 | Linux (SUSE 10.1) / x86_64 | OK | OK |  | 
| wilson2 | Linux (openSUSE 10.3) / x86_64 | OK | OK |  | 
| wellington | Linux (openSUSE 10.3) / i686 | OK | OK |  | 
| liverpool | Windows Server 2003 R2 (32-bit) / x64 | OK | OK | [ OK ] | 
| lemming | Windows Server 2003 (32-bit) / x64 | OK | OK | OK | 
| pitt | Mac OS X Tiger (10.4.11) / i386 | OK | OK | OK | 
installing R.css in E:/biocbld/bbs-2.1-bioc/meat/timecourse.buildbin-libdir
Using auto-selected zip options 'timecourse-ZIPDATA=zip'
---------- Making package timecourse ------------
  adding build stamp to DESCRIPTION
  installing R files
  installing inst files
  installing data files
  installing man source files
  installing indices
  zipping data
  installing help
 >>> Building/Updating help pages for package 'timecourse'
     Formats: text html latex example chm 
  abs2ratio                         text    html    latex           chm
  fruitfly                          text    html    latex           chm
  marrayTC-class                    text    html    latex           chm
  matrix.cov                        text    html    latex           chm
  mb.MANOVA                         text    html    latex   example chm
  mb.long                           text    html    latex   example chm
  ot.helmert                        text    html    latex           chm
  plotProfile                       text    html    latex           chm
  univ.func                         text    html    latex           chm
Microsoft HTML Help Compiler 4.74.8702
Compiling e:\biocbld\bbs-2.1-bioc\meat\R.INSTALL.1940\timecourse\chm\timecourse.chm
Compile time: 0 minutes, 1 second
10	Topics
27	Local links
2	Internet links
1	Graphic
Created e:\biocbld\bbs-2.1-bioc\meat\R.INSTALL.1940\timecourse\chm\timecourse.chm, 35,025 bytes
Compression decreased file by 16,491 bytes.
  preparing package timecourse for lazy loading
Loading required package: limma
Loading required package: MASS
Loading required package: Biobase
Loading required package: tools
Welcome to Bioconductor
  Vignettes contain introductory material. To view, type
  'openVignette()'. To cite Bioconductor, see
  'citation("Biobase")' and for packages 'citation(pkgname)'.
  adding MD5 sums
packaged installation of package 'timecourse' as timecourse_1.10.0.zip
* DONE (timecourse)