| pcot2 1.6.0 Sarah Song
 
 | Snapshot Date: 2008-04-09 12:13:20 -0700 (Wed, 09 Apr 2008) |  | URL: https://hedgehog.fhcrc.org/bioconductor/branches/RELEASE_2_1/madman/Rpacks/pcot2 |  | Last Changed Rev: 27709 / Revision: 30966 |  | Last Changed Date: 2007-10-02 17:41:09 -0700 (Tue, 02 Oct 2007) | 
 | lamb1 | Linux (SUSE 10.1) / x86_64 | OK | OK |  | 
| wilson2 | Linux (openSUSE 10.3) / x86_64 | OK | OK |  | 
| wellington | Linux (openSUSE 10.3) / i686 | OK | OK |  | 
| liverpool | Windows Server 2003 R2 (32-bit) / x64 | OK | OK | OK | 
| lemming | Windows Server 2003 (32-bit) / x64 | OK | OK | OK | 
| pitt | Mac OS X Tiger (10.4.11) / i386 | OK | OK | [ OK ] | 
                INSTALLATION WITH 'R CMD INSTALL pcot2_1.6.0.tar.gz'
* Installing to library 'pcot2.buildbin-libdir'
* Installing *source* package 'pcot2' ...
** R
** inst
** help
 >>> Building/Updating help pages for package 'pcot2'
     Formats: text html latex example 
  aveProbe                          text    html    latex   example
  corplot                           text    html    latex   example
  corplot2                          text    html    latex   example
  getImat                           text    html    latex   example
  pcot2-internal                    text    html    latex
  pcot2                             text    html    latex   example
** building package indices ...
* DONE (pcot2)