pcot2 1.6.0 Sarah Song
 | Snapshot Date: 2008-04-09 12:13:20 -0700 (Wed, 09 Apr 2008) |  | URL: https://hedgehog.fhcrc.org/bioconductor/branches/RELEASE_2_1/madman/Rpacks/pcot2 |  | Last Changed Rev: 27709 / Revision: 30966 |  | Last Changed Date: 2007-10-02 17:41:09 -0700 (Tue, 02 Oct 2007) |  
  | lamb1  | Linux (SUSE 10.1) / x86_64  |  OK  |  OK  |  | 
| wilson2  | Linux (openSUSE 10.3) / x86_64  |  OK  |  OK  |  | 
| wellington  | Linux (openSUSE 10.3) / i686  |  OK  |  OK  |  | 
| liverpool  | Windows Server 2003 R2 (32-bit) / x64  | [ OK ] |  OK  |  OK  | 
| lemming  | Windows Server 2003 (32-bit) / x64  |  OK  |  OK  |  OK  | 
| pitt  | Mac OS X Tiger (10.4.11) / i386  |  OK  |  OK  |  OK  | 
* checking for file 'pcot2/DESCRIPTION' ... OK
* preparing 'pcot2':
* checking DESCRIPTION meta-information ... OK
* installing the package to re-build vignettes
installing R.css in E:/biocbld/bbs-2.1-bioc/tmpdir/Rinst166078509
---------- Making package pcot2 ------------
  adding build stamp to DESCRIPTION
  installing R files
  installing inst files
  installing man source files
  installing indices
  installing help
 >>> Building/Updating help pages for package 'pcot2'
     Formats: text html latex example chm 
  aveProbe                          text    html    latex   example chm
  corplot                           text    html    latex   example chm
  corplot2                          text    html    latex   example chm
  getImat                           text    html    latex   example chm
  pcot2-internal                    text    html    latex           chm
  pcot2                             text    html    latex   example chm
Microsoft HTML Help Compiler 4.74.8702
Compiling e:\biocbld\bbs-2.1-bioc\meat\pcot2\chm\pcot2.chm
Compile time: 0 minutes, 0 seconds
7	Topics
27	Local links
0	Internet links
1	Graphic
Created e:\biocbld\bbs-2.1-bioc\meat\pcot2\chm\pcot2.chm, 26,130 bytes
Compression decreased file by 4,683 bytes.
  adding MD5 sums
* DONE (pcot2)
* creating vignettes ... OK
* removing junk files
* checking for LF line-endings in source and make files
* checking for empty or unneeded directories
* building 'pcot2_1.6.0.tar.gz'