| biocViews 1.6.1 Biocore Team c/o BioC user list
 
 | Snapshot Date: 2008-04-09 12:13:20 -0700 (Wed, 09 Apr 2008) |  | URL: https://hedgehog.fhcrc.org/bioconductor/branches/RELEASE_2_1/madman/Rpacks/biocViews |  | Last Changed Rev: 28916 / Revision: 30966 |  | Last Changed Date: 2007-11-26 15:13:12 -0800 (Mon, 26 Nov 2007) | 
 | lamb1 | Linux (SUSE 10.1) / x86_64 | OK | OK |  | 
| wilson2 | Linux (openSUSE 10.3) / x86_64 | OK | OK |  | 
| wellington | Linux (openSUSE 10.3) / i686 | OK | OK |  | 
| liverpool | Windows Server 2003 R2 (32-bit) / x64 | OK | OK | OK | 
| lemming | Windows Server 2003 (32-bit) / x64 | OK | OK | OK | 
| pitt | Mac OS X Tiger (10.4.11) / i386 | OK | OK | [ OK ] | 
                INSTALLATION WITH 'R CMD INSTALL biocViews_1.6.1.tar.gz'
* Installing to library 'biocViews.buildbin-libdir'
* Installing *source* package 'biocViews' ...
** R
** data
** inst
** preparing package for lazy loading
Loading required package: tools
Loading required package: graph
Loading required package: RBGL
Loading required package: XML
Attaching package: 'XML'
	The following object(s) are masked from package:graph :
	 addNode 
** help
 >>> Building/Updating help pages for package 'biocViews'
     Formats: text html latex example 
  BiocView-class                    text    html    latex
  Htmlized-class                    text    html    latex
  PackageDetail-class               text    html    latex   example
  RepositoryDetail-class            text    html    latex
  biocViewsVocab                    text    html    latex   example
  extractVignettes                  text    html    latex
  genReposControlFiles              text    html    latex
  getBiocSubViews                   text    html    latex   example
  getBiocViews                      text    html    latex   example
  getPacksAndViews                  text    html    latex
  getSubTerms                       text    html    latex   example
  htmlDoc                           text    html    latex
  htmlFilename                      text    html    latex
  htmlValue                         text    html    latex
  writeBiocViews                    text    html    latex
  writeHtmlDoc                      text    html    latex
  writePackageDetailHtml            text    html    latex
  writeRepositoryHtml               text    html    latex
  writeTopLevelView                 text    html    latex
  write_REPOSITORY                  text    html    latex
  write_SYMBOLS                     text    html    latex
  write_VIEWS                       text    html    latex
** building package indices ...
* DONE (biocViews)