| arrayMagic 1.16.1 Andreas Buness
 
 | Snapshot Date: 2008-04-09 12:13:20 -0700 (Wed, 09 Apr 2008) |  | URL: https://hedgehog.fhcrc.org/bioconductor/branches/RELEASE_2_1/madman/Rpacks/arrayMagic |  | Last Changed Rev: 28793 / Revision: 30966 |  | Last Changed Date: 2007-11-16 14:13:10 -0800 (Fri, 16 Nov 2007) | 
 | lamb1 | Linux (SUSE 10.1) / x86_64 | OK | OK |  | 
| wilson2 | Linux (openSUSE 10.3) / x86_64 | OK | OK |  | 
| wellington | Linux (openSUSE 10.3) / i686 | OK | OK |  | 
| liverpool | Windows Server 2003 R2 (32-bit) / x64 | OK | OK | OK | 
| lemming | Windows Server 2003 (32-bit) / x64 | OK | OK | [ OK ] | 
| pitt | Mac OS X Tiger (10.4.11) / i386 | OK | OK | OK | 
installing R.css in D:/biocbld/bbs-2.1-bioc/meat/arrayMagic.buildbin-libdir
Using auto-selected zip options ' arrayMagic-HELP=ziponly'
---------- Making package arrayMagic ------------
  adding build stamp to DESCRIPTION
  installing R files
  installing inst files
  preparing package arrayMagic for lazy loading
Loading required package: Biobase
Loading required package: tools
Welcome to Bioconductor
  Vignettes contain introductory material. To view, type
  'openVignette()'. To cite Bioconductor, see
  'citation("Biobase")' and for packages 'citation(pkgname)'.
Loading required package: vsn
Loading required package: affy
Loading required package: affyio
Loading required package: preprocessCore
Loading required package: limma
Loading required package: genefilter
Loading required package: survival
Loading required package: splines
  installing man source files
  installing indices
  installing help
Note: unmatched right brace in 'readpDataSlides' on or after line 63
Note: unmatched right brace in 'readpDataSlides.Rd' on or after line 63
 >>> Building/Updating help pages for package 'arrayMagic'
     Formats: text html latex example chm 
  arrayData-class                   text    html    latex   example chm
  cbind.arrayData                   text    html    latex   example chm
  cbind.exprSetRG                   text    html    latex   example chm
  colCors                           text    html    latex   example chm
  controlledApply                   text    html    latex   example chm
  controlledSubsetting              text    html    latex   example chm
  detectReplicas                    text    html    latex   example chm
  exprSetRG-class                   text    html    latex   example chm
  fdc                               text    html    latex   example chm
  interweave                        text    html    latex   example chm
  normalise                         text    html    latex   example chm
  plot.imageMatrix                  text    html    latex   example chm
  plotDistributions                 text    html    latex   example chm
  processArrayData                  text    html    latex   example chm
  processArrayDataObject            text    html    latex   example chm
  qualityDiagnostics                text    html    latex   example chm
  qualityParameters                 text    html    latex   example chm
  readIntensities                   text    html    latex   example chm
  readpDataSlides                   text    html    latex   example chm
  removeSpots                       text    html    latex   example chm
  simpleApply                       text    html    latex   example chm
  slideMerge                        text    html    latex   example chm
  spatialLayout                     text    html    latex   example chm
  spotMerge                         text    html    latex   example chm
  visualiseHybridisations           text    html    latex   example chm
  visualiseQualityParameters        text    html    latex   example chm
  write.htmltable                   text    html    latex   example chm
  writeToFile                       text    html    latex   example chm
  zipping help files
HHC5012: Error: Cannot create a temporary file in your TEMP path.
HHC4016: Warning: Cannot open "ogram Files\Windows Resource Kits\Tools\;c:\Program Files\Affymetrix\GDAC NetAffx;c:\gs\gs8.51\bin;c:\Program Files\Java\jdk1.5.0_06\bin;c:\program files\imagemagick-6.3.2-q16;c:\Program Files\MySQL\MySQL Server 5.0\bin;c:\Program Files\ggobi".
Microsoft HTML Help Compiler 4.74.8702
Compiling d:\biocbld\bbs-2.1-bioc\meat\R.INSTALL.936\arrayMagic\chm\arrayMagic.chm
HHC4016: Warning: Cannot open "ogram Files\Windows Resource Kits\Tools\;c:\Program Files\Affymetrix\GDAC NetAffx;c:\gs\gs8.51\bin;c:\Program Files\Java\jdk1.5.0_06\bin;c:\program files\imagemagick-6.3.2-q16;c:\Program Files\MySQL\MySQL Server 5.0\bin;c:\Program Files\ggobi".
The following files were not compiled:
  adding MD5 sums
packaged installation of package 'arrayMagic' as arrayMagic_1.16.1.zip
* DONE (arrayMagic)