| altcdfenvs 1.12.0 Laurent Gautier
 
 | Snapshot Date: 2008-04-09 12:13:20 -0700 (Wed, 09 Apr 2008) |  | URL: https://hedgehog.fhcrc.org/bioconductor/branches/RELEASE_2_1/madman/Rpacks/altcdfenvs |  | Last Changed Rev: 27709 / Revision: 30966 |  | Last Changed Date: 2007-10-02 17:41:09 -0700 (Tue, 02 Oct 2007) | 
 | lamb1 | Linux (SUSE 10.1) / x86_64 | OK | OK |  | 
| wilson2 | Linux (openSUSE 10.3) / x86_64 | OK | OK |  | 
| wellington | Linux (openSUSE 10.3) / i686 | OK | OK |  | 
| liverpool | Windows Server 2003 R2 (32-bit) / x64 | OK | OK | OK | 
| lemming | Windows Server 2003 (32-bit) / x64 | OK | OK | OK | 
| pitt | Mac OS X Tiger (10.4.11) / i386 | OK | OK | [ OK ] | 
                INSTALLATION WITH 'R CMD INSTALL altcdfenvs_1.12.0.tar.gz'
* Installing to library 'altcdfenvs.buildbin-libdir'
* Installing *source* package 'altcdfenvs' ...
** R
** data
** inst
** preparing package for lazy loading
Loading required package: Biobase
Loading required package: tools
Welcome to Bioconductor
  Vignettes contain introductory material. To view, type
  'openVignette()'. To cite Bioconductor, see
  'citation("Biobase")' and for packages 'citation(pkgname)'.
Loading required package: affy
Loading required package: affyio
Loading required package: preprocessCore
Loading required package: matchprobes
Loading required package: makecdfenv
Creating a new generic function for "plot" in "altcdfenvs"
** help
 >>> Building/Updating help pages for package 'altcdfenvs'
     Formats: text html latex example 
  CdfEnvAffy-class                  text    html    latex   example
  appendCdfEnvAffy                  text    html    latex   example
  cdfenv                            text    html    latex   example
  cdfenvEx                          text    html    latex   example
  copyCdfEnvAffy                    text    html    latex
  countduplicated                   text    html    latex   example
  geneNames                         text    html    latex
  getxy.probeseq                    text    html    latex   example
  index2xy                          text    html    latex   example
  indexProbes.CdfEnvAffy            text    html    latex   example
  plot.CdfEnvAffy                   text    html    latex   example
  removeIndex                       text    html    latex   example
  unique.CdfEnvAffy                 text    html    latex   example
  utils.FASTA                       text    html    latex   example
  validAffyBatch                    text    html    latex   example
** building package indices ...
* DONE (altcdfenvs)