| altcdfenvs 1.12.0 Laurent Gautier
 
 | Snapshot Date: 2008-04-09 12:13:20 -0700 (Wed, 09 Apr 2008) |  | URL: https://hedgehog.fhcrc.org/bioconductor/branches/RELEASE_2_1/madman/Rpacks/altcdfenvs |  | Last Changed Rev: 27709 / Revision: 30966 |  | Last Changed Date: 2007-10-02 17:41:09 -0700 (Tue, 02 Oct 2007) | 
 | lamb1 | Linux (SUSE 10.1) / x86_64 | OK | OK |  | 
| wilson2 | Linux (openSUSE 10.3) / x86_64 | OK | OK |  | 
| wellington | Linux (openSUSE 10.3) / i686 | OK | OK |  | 
| liverpool | Windows Server 2003 R2 (32-bit) / x64 | [ OK ] | OK | OK | 
| lemming | Windows Server 2003 (32-bit) / x64 | OK | OK | OK | 
| pitt | Mac OS X Tiger (10.4.11) / i386 | OK | OK | OK | 
* checking for file 'altcdfenvs/DESCRIPTION' ... OK
* preparing 'altcdfenvs':
* checking DESCRIPTION meta-information ... OK
* installing the package to re-build vignettes
installing R.css in E:/biocbld/bbs-2.1-bioc/tmpdir/Rinst388850128
---------- Making package altcdfenvs ------------
  adding build stamp to DESCRIPTION
  installing R files
  installing inst files
  installing data files
  preparing package altcdfenvs for lazy loading
Loading required package: Biobase
Loading required package: tools
Welcome to Bioconductor
  Vignettes contain introductory material. To view, type
  'openVignette()'. To cite Bioconductor, see
  'citation("Biobase")' and for packages 'citation(pkgname)'.
Loading required package: affy
Loading required package: affyio
Loading required package: preprocessCore
Loading required package: matchprobes
Loading required package: makecdfenv
Creating a new generic function for "plot" in "altcdfenvs"
  installing man source files
  installing indices
  not zipping data
  installing help
 >>> Building/Updating help pages for package 'altcdfenvs'
     Formats: text html latex example chm 
  CdfEnvAffy-class                  text    html    latex   example chm
  appendCdfEnvAffy                  text    html    latex   example chm
  cdfenv                            text    html    latex   example chm
  cdfenvEx                          text    html    latex   example chm
  copyCdfEnvAffy                    text    html    latex           chm
  countduplicated                   text    html    latex   example chm
  geneNames                         text    html    latex           chm
  getxy.probeseq                    text    html    latex   example chm
  index2xy                          text    html    latex   example chm
  indexProbes.CdfEnvAffy            text    html    latex   example chm
  plot.CdfEnvAffy                   text    html    latex   example chm
  removeIndex                       text    html    latex   example chm
  unique.CdfEnvAffy                 text    html    latex   example chm
  utils.FASTA                       text    html    latex   example chm
  validAffyBatch                    text    html    latex   example chm
Microsoft HTML Help Compiler 4.74.8702
Compiling e:\biocbld\bbs-2.1-bioc\meat\altcdfenvs\chm\altcdfenvs.chm
Compile time: 0 minutes, 1 second
16	Topics
66	Local links
0	Internet links
1	Graphic
Created e:\biocbld\bbs-2.1-bioc\meat\altcdfenvs\chm\altcdfenvs.chm, 31,891 bytes
Compression decreased file by 25,491 bytes.
  adding MD5 sums
* DONE (altcdfenvs)
* creating vignettes ... OK
* removing junk files
* checking for LF line-endings in source and make files
* checking for empty or unneeded directories
* building 'altcdfenvs_1.12.0.tar.gz'