| MVCClass 1.12.0 Elizabeth Whalen
 
 | Snapshot Date: 2008-04-09 12:13:20 -0700 (Wed, 09 Apr 2008) |  | URL: https://hedgehog.fhcrc.org/bioconductor/branches/RELEASE_2_1/madman/Rpacks/MVCClass |  | Last Changed Rev: 27709 / Revision: 30966 |  | Last Changed Date: 2007-10-02 17:41:09 -0700 (Tue, 02 Oct 2007) | 
 | lamb1 | Linux (SUSE 10.1) / x86_64 | OK | OK |  | 
| wilson2 | Linux (openSUSE 10.3) / x86_64 | OK | OK |  | 
| wellington | Linux (openSUSE 10.3) / i686 | OK | OK |  | 
| liverpool | Windows Server 2003 R2 (32-bit) / x64 | OK | OK | OK | 
| lemming | Windows Server 2003 (32-bit) / x64 | OK | OK | OK | 
| pitt | Mac OS X Tiger (10.4.11) / i386 | OK | OK | [ OK ] | 
                INSTALLATION WITH 'R CMD INSTALL MVCClass_1.12.0.tar.gz'
* Installing to library 'MVCClass.buildbin-libdir'
* Installing *source* package 'MVCClass' ...
** R
** inst
** help
 >>> Building/Updating help pages for package 'MVCClass'
     Formats: text html latex example 
  MVC-class                         text    html    latex   example
  dfModel-class                     text    html    latex   example
  gAddChildMessage-class            text    html    latex   example
  gAddDataMessage-class             text    html    latex   example
  gAddMessage-class                 text    html    latex   example
  gAddViewMessage-class             text    html    latex   example
  gAskAncestorMessage-class         text    html    latex   example
  gEventFun-class                   text    html    latex   example
  gMessage-class                    text    html    latex   example
  gModel-class                      text    html    latex   example
  gModifyMessage-class              text    html    latex   example
  gSendChildMessage-class           text    html    latex   example
  gSendParentMessage-class          text    html    latex   example
  gUpdateDataMessage-class          text    html    latex   example
  gUpdateMessage-class              text    html    latex   example
  gUpdateViewMessage-class          text    html    latex   example
  genView-class                     text    html    latex   example
  linkedModelMVC-class              text    html    latex   example
  plotView-class                    text    html    latex   example
  qqPlotView-class                  text    html    latex   example
  sPlotView-class                   text    html    latex   example
  singleModelMVC-class              text    html    latex   example
  spreadView-class                  text    html    latex   example
** building package indices ...
* DONE (MVCClass)