| MVCClass 1.12.0 Elizabeth Whalen
 
 | Snapshot Date: 2008-04-09 12:13:20 -0700 (Wed, 09 Apr 2008) |  | URL: https://hedgehog.fhcrc.org/bioconductor/branches/RELEASE_2_1/madman/Rpacks/MVCClass |  | Last Changed Rev: 27709 / Revision: 30966 |  | Last Changed Date: 2007-10-02 17:41:09 -0700 (Tue, 02 Oct 2007) | 
 | lamb1 | Linux (SUSE 10.1) / x86_64 | OK | OK |  | 
| wilson2 | Linux (openSUSE 10.3) / x86_64 | OK | OK |  | 
| wellington | Linux (openSUSE 10.3) / i686 | OK | OK |  | 
| liverpool | Windows Server 2003 R2 (32-bit) / x64 | OK | OK | OK | 
| lemming | Windows Server 2003 (32-bit) / x64 | OK | OK | [ OK ] | 
| pitt | Mac OS X Tiger (10.4.11) / i386 | OK | OK | OK | 
installing R.css in D:/biocbld/bbs-2.1-bioc/meat/MVCClass.buildbin-libdir
Using auto-selected zip options ' MVCClass-HELP=ziponly'
---------- Making package MVCClass ------------
  adding build stamp to DESCRIPTION
  installing NAMESPACE file and metadata
  installing R files
  installing inst files
  installing man source files
  installing indices
  installing help
 >>> Building/Updating help pages for package 'MVCClass'
     Formats: text html latex example chm 
  MVC-class                         text    html    latex   example chm
  dfModel-class                     text    html    latex   example chm
  gAddChildMessage-class            text    html    latex   example chm
  gAddDataMessage-class             text    html    latex   example chm
  gAddMessage-class                 text    html    latex   example chm
  gAddViewMessage-class             text    html    latex   example chm
  gAskAncestorMessage-class         text    html    latex   example chm
  gEventFun-class                   text    html    latex   example chm
  gMessage-class                    text    html    latex   example chm
  gModel-class                      text    html    latex   example chm
  gModifyMessage-class              text    html    latex   example chm
  gSendChildMessage-class           text    html    latex   example chm
  gSendParentMessage-class          text    html    latex   example chm
  gUpdateDataMessage-class          text    html    latex   example chm
  gUpdateMessage-class              text    html    latex   example chm
  gUpdateViewMessage-class          text    html    latex   example chm
  genView-class                     text    html    latex   example chm
  linkedModelMVC-class              text    html    latex   example chm
  plotView-class                    text    html    latex   example chm
  qqPlotView-class                  text    html    latex   example chm
  sPlotView-class                   text    html    latex   example chm
  singleModelMVC-class              text    html    latex   example chm
  spreadView-class                  text    html    latex   example chm
  zipping help files
HHC5012: Error: Cannot create a temporary file in your TEMP path.
HHC4016: Warning: Cannot open "\Program Files\Windows Resource Kits\Tools\;c:\Program Files\Affymetrix\GDAC NetAffx;c:\gs\gs8.51\bin;c:\Program Files\Java\jdk1.5.0_06\bin;c:\program files\imagemagick-6.3.2-q16;c:\Program Files\MySQL\MySQL Server 5.0\bin;c:\Program Files\ggobi".
Microsoft HTML Help Compiler 4.74.8702
Compiling d:\biocbld\bbs-2.1-bioc\meat\R.INSTALL.1908\MVCClass\chm\MVCClass.chm
HHC4016: Warning: Cannot open "\Program Files\Windows Resource Kits\Tools\;c:\Program Files\Affymetrix\GDAC NetAffx;c:\gs\gs8.51\bin;c:\Program Files\Java\jdk1.5.0_06\bin;c:\program files\imagemagick-6.3.2-q16;c:\Program Files\MySQL\MySQL Server 5.0\bin;c:\Program Files\ggobi".
The following files were not compiled:
  adding MD5 sums
packaged installation of package 'MVCClass' as MVCClass_1.12.0.zip
* DONE (MVCClass)