BSgenome 1.6.2 H. Pages
| Snapshot Date: 2008-04-09 12:13:20 -0700 (Wed, 09 Apr 2008) | | URL: https://hedgehog.fhcrc.org/bioconductor/branches/RELEASE_2_1/madman/Rpacks/BSgenome | | Last Changed Rev: 29241 / Revision: 30966 | | Last Changed Date: 2007-12-18 11:21:37 -0800 (Tue, 18 Dec 2007) |
| lamb1 | Linux (SUSE 10.1) / x86_64 | OK | OK | |
| wilson2 | Linux (openSUSE 10.3) / x86_64 | [ OK ] | OK | |
| wellington | Linux (openSUSE 10.3) / i686 | OK | OK | |
| liverpool | Windows Server 2003 R2 (32-bit) / x64 | OK | OK | OK |
| lemming | Windows Server 2003 (32-bit) / x64 | OK | OK | OK |
| pitt | Mac OS X Tiger (10.4.11) / i386 | OK | OK | OK |