| pkgDepTools 1.4.1 Seth Falcon
 
 | Snapshot Date: 2008-04-02 12:12:36 -0700 (Wed, 02 Apr 2008) |  | URL: https://hedgehog.fhcrc.org/bioconductor/branches/RELEASE_2_1/madman/Rpacks/pkgDepTools |  | Last Changed Rev: 28864 / Revision: 30807 |  | Last Changed Date: 2007-11-20 10:18:06 -0800 (Tue, 20 Nov 2007) | 
 | lamb1 | Linux (SUSE 10.1) / x86_64 | OK | OK |  | 
| wilson2 | Linux (openSUSE 10.3) / x86_64 | OK | OK |  | 
| wellington | Linux (openSUSE 10.3) / i686 | OK | OK |  | 
| liverpool | Windows Server 2003 R2 (32-bit) / x64 | OK | OK | OK | 
| lemming | Windows Server 2003 (32-bit) / x64 | OK | OK | OK | 
| pitt | Mac OS X Tiger (10.4.11) / i386 | [ OK ] | OK | OK | 
* checking for file 'pkgDepTools/DESCRIPTION' ... OK
* preparing 'pkgDepTools':
* checking DESCRIPTION meta-information ... OK
* installing the package to re-build vignettes
* Installing *source* package 'pkgDepTools' ...
** R
** inst
** preparing package for lazy loading
Loading required package: graph
Loading required package: RBGL
** help
 >>> Building/Updating help pages for package 'pkgDepTools'
     Formats: text html latex example 
  basicInstallOrder                 text    html    latex
  cleanPkgField                     text    html    latex
  getDownloadSize                   text    html    latex
  getInstallOrder                   text    html    latex
  makeDepGraph                      text    html    latex   example
  makePkgUrl                        text    html    latex
  parseContentLength                text    html    latex
  pkgDepTools-package               text    html    latex
** building package indices ...
* DONE (pkgDepTools)
* creating vignettes ... OK
* removing junk files
* checking for LF line-endings in source and make files
* checking for empty or unneeded directories
* building 'pkgDepTools_1.4.1.tar.gz'