| pkgDepTools 1.4.1 Seth Falcon
 
 | Snapshot Date: 2008-04-02 12:12:36 -0700 (Wed, 02 Apr 2008) |  | URL: https://hedgehog.fhcrc.org/bioconductor/branches/RELEASE_2_1/madman/Rpacks/pkgDepTools |  | Last Changed Rev: 28864 / Revision: 30807 |  | Last Changed Date: 2007-11-20 10:18:06 -0800 (Tue, 20 Nov 2007) | 
 | lamb1 | Linux (SUSE 10.1) / x86_64 | OK | OK |  | 
| wilson2 | Linux (openSUSE 10.3) / x86_64 | OK | OK |  | 
| wellington | Linux (openSUSE 10.3) / i686 | OK | OK |  | 
| liverpool | Windows Server 2003 R2 (32-bit) / x64 | OK | OK | OK | 
| lemming | Windows Server 2003 (32-bit) / x64 | OK | OK | [ OK ] | 
| pitt | Mac OS X Tiger (10.4.11) / i386 | OK | OK | OK | 
installing R.css in D:/biocbld/bbs-2.1-bioc/meat/pkgDepTools.buildbin-libdir
Using auto-selected zip options ''
---------- Making package pkgDepTools ------------
  adding build stamp to DESCRIPTION
  installing NAMESPACE file and metadata
  installing R files
  installing inst files
  preparing package pkgDepTools for lazy loading
Loading required package: graph
Loading required package: RBGL
  installing man source files
  installing indices
  installing help
 >>> Building/Updating help pages for package 'pkgDepTools'
     Formats: text html latex example chm 
  basicInstallOrder                 text    html    latex           chm
  cleanPkgField                     text    html    latex           chm
  getDownloadSize                   text    html    latex           chm
  getInstallOrder                   text    html    latex           chm
  makeDepGraph                      text    html    latex   example chm
  makePkgUrl                        text    html    latex           chm
  parseContentLength                text    html    latex           chm
  pkgDepTools-package               text    html    latex           chm
HHC5012: Error: Cannot create a temporary file in your TEMP path.
HHC4016: Warning: Cannot open "Windows Resource Kits\Tools\;c:\Program Files\Affymetrix\GDAC NetAffx;c:\gs\gs8.51\bin;c:\Program Files\Java\jdk1.5.0_06\bin;c:\program files\imagemagick-6.3.2-q16;c:\Program Files\MySQL\MySQL Server 5.0\bin;c:\Program Files\ggobi".
Microsoft HTML Help Compiler 4.74.8702
Compiling d:\biocbld\bbs-2.1-bioc\meat\R.INSTALL.3128\pkgDepTools\chm\pkgDepTools.chm
HHC4016: Warning: Cannot open "Windows Resource Kits\Tools\;c:\Program Files\Affymetrix\GDAC NetAffx;c:\gs\gs8.51\bin;c:\Program Files\Java\jdk1.5.0_06\bin;c:\program files\imagemagick-6.3.2-q16;c:\Program Files\MySQL\MySQL Server 5.0\bin;c:\Program Files\ggobi".
The following files were not compiled:
  adding MD5 sums
packaged installation of package 'pkgDepTools' as pkgDepTools_1.4.1.zip
* DONE (pkgDepTools)