logicFS 1.8.0 Holger Schwender
 | Snapshot Date: 2008-04-02 12:12:36 -0700 (Wed, 02 Apr 2008) |  | URL: https://hedgehog.fhcrc.org/bioconductor/branches/RELEASE_2_1/madman/Rpacks/logicFS |  | Last Changed Rev: 27709 / Revision: 30807 |  | Last Changed Date: 2007-10-02 17:41:09 -0700 (Tue, 02 Oct 2007) |  
  | lamb1  | Linux (SUSE 10.1) / x86_64  |  OK  |  OK  |  | 
| wilson2  | Linux (openSUSE 10.3) / x86_64  |  OK  |  OK  |  | 
| wellington  | Linux (openSUSE 10.3) / i686  |  OK  |  OK  |  | 
| liverpool  | Windows Server 2003 R2 (32-bit) / x64  |  OK  |  OK  |  OK  | 
| lemming  | Windows Server 2003 (32-bit) / x64  |  OK  |  OK  |  OK  | 
| pitt  | Mac OS X Tiger (10.4.11) / i386  |  OK  |  OK  | [ OK ] | 
                INSTALLATION WITH 'R CMD INSTALL logicFS_1.8.0.tar.gz'
* Installing to library 'logicFS.buildbin-libdir'
* Installing *source* package 'logicFS' ...
** R
** data
** inst
** preparing package for lazy loading
Loading required package: LogicReg
Loading required package: survival
Loading required package: splines
** help
 >>> Building/Updating help pages for package 'logicFS'
     Formats: text html latex example 
  data.logicfs                      text    html    latex
  getMatEval                        text    html    latex
  logic.bagging                     text    html    latex   example
  logic.oob                         text    html    latex
  logic.pimp                        text    html    latex
  logicFS-internal                  text    html    latex
  logicFS                           text    html    latex   example
  make.snp.dummy                    text    html    latex
  minDNF                            text    html    latex
  plot.logicFS                      text    html    latex
  predict.logicBagg                 text    html    latex
  print.logicFS                     text    html    latex
  vim.chisq                         text    html    latex
  vim.ebam                          text    html    latex
  vim.logicFS                       text    html    latex
  vim.norm                          text    html    latex
** building package indices ...
* DONE (logicFS)