logicFS 1.8.0 Holger Schwender
 | Snapshot Date: 2008-04-02 12:12:36 -0700 (Wed, 02 Apr 2008) |  | URL: https://hedgehog.fhcrc.org/bioconductor/branches/RELEASE_2_1/madman/Rpacks/logicFS |  | Last Changed Rev: 27709 / Revision: 30807 |  | Last Changed Date: 2007-10-02 17:41:09 -0700 (Tue, 02 Oct 2007) |  
  | lamb1  | Linux (SUSE 10.1) / x86_64  |  OK  |  OK  |  | 
| wilson2  | Linux (openSUSE 10.3) / x86_64  |  OK  |  OK  |  | 
| wellington  | Linux (openSUSE 10.3) / i686  |  OK  |  OK  |  | 
| liverpool  | Windows Server 2003 R2 (32-bit) / x64  |  OK  |  OK  |  OK  | 
| lemming  | Windows Server 2003 (32-bit) / x64  |  OK  |  OK  | [ OK ] | 
| pitt  | Mac OS X Tiger (10.4.11) / i386  |  OK  |  OK  |  OK  | 
installing R.css in D:/biocbld/bbs-2.1-bioc/meat/logicFS.buildbin-libdir
Using auto-selected zip options ''
---------- Making package logicFS ------------
  adding build stamp to DESCRIPTION
  installing NAMESPACE file and metadata
  installing R files
  installing inst files
  installing data files
  installing man source files
  installing indices
  not zipping data
  installing help
 >>> Building/Updating help pages for package 'logicFS'
     Formats: text html latex example chm 
  data.logicfs                      text    html    latex           chm
  getMatEval                        text    html    latex           chm
  logic.bagging                     text    html    latex   example chm
  logic.oob                         text    html    latex           chm
  logic.pimp                        text    html    latex           chm
  logicFS-internal                  text    html    latex           chm
  logicFS                           text    html    latex   example chm
  make.snp.dummy                    text    html    latex           chm
  minDNF                            text    html    latex           chm
  plot.logicFS                      text    html    latex           chm
  predict.logicBagg                 text    html    latex           chm
  print.logicFS                     text    html    latex           chm
  vim.chisq                         text    html    latex           chm
  vim.ebam                          text    html    latex           chm
  vim.logicFS                       text    html    latex           chm
  vim.norm                          text    html    latex           chm
HHC5012: Error: Cannot create a temporary file in your TEMP path.
HHC4016: Warning: Cannot open "DAC NetAffx;c:\gs\gs8.51\bin;c:\Program Files\Java\jdk1.5.0_06\bin;c:\program files\imagemagick-6.3.2-q16;c:\Program Files\MySQL\MySQL Server 5.0\bin;c:\Program Files\ggobi".
Microsoft HTML Help Compiler 4.74.8702
Compiling d:\biocbld\bbs-2.1-bioc\meat\R.INSTALL.4376\logicFS\chm\logicFS.chm
HHC4016: Warning: Cannot open "DAC NetAffx;c:\gs\gs8.51\bin;c:\Program Files\Java\jdk1.5.0_06\bin;c:\program files\imagemagick-6.3.2-q16;c:\Program Files\MySQL\MySQL Server 5.0\bin;c:\Program Files\ggobi".
The following files were not compiled:
  preparing package logicFS for lazy loading
Loading required package: LogicReg
Loading required package: survival
Loading required package: splines
  adding MD5 sums
packaged installation of package 'logicFS' as logicFS_1.8.0.zip
* DONE (logicFS)