| CORREP 1.4.0 Dongxiao Zhu
 
 | Snapshot Date: 2008-04-02 12:12:36 -0700 (Wed, 02 Apr 2008) |  | URL: https://hedgehog.fhcrc.org/bioconductor/branches/RELEASE_2_1/madman/Rpacks/CORREP |  | Last Changed Rev: 27709 / Revision: 30807 |  | Last Changed Date: 2007-10-02 17:41:09 -0700 (Tue, 02 Oct 2007) | 
 | lamb1 | Linux (SUSE 10.1) / x86_64 | OK | OK |  | 
| wilson2 | Linux (openSUSE 10.3) / x86_64 | OK | OK |  | 
| wellington | Linux (openSUSE 10.3) / i686 | OK | OK |  | 
| liverpool | Windows Server 2003 R2 (32-bit) / x64 | OK | OK | OK | 
| lemming | Windows Server 2003 (32-bit) / x64 | OK | OK | OK | 
| pitt | Mac OS X Tiger (10.4.11) / i386 | [ OK ] | OK | OK | 
* checking for file 'CORREP/DESCRIPTION' ... OK
* preparing 'CORREP':
* checking DESCRIPTION meta-information ... OK
* installing the package to re-build vignettes
* Installing *source* package 'CORREP' ...
** R
** data
** inst
** help
 >>> Building/Updating help pages for package 'CORREP'
     Formats: text html latex example 
  CORREP-package                    text    html    latex   example
  cor.LRtest                        text    html    latex   example
  cor.LRtest.std                    text    html    latex   example
  cor.balance                       text    html    latex   example
  cor.bootci                        text    html    latex   example
  cor.unbalance                     text    html    latex   example
  gal_all                           text    html    latex   example
  permutest                         text    html    latex   example
  true.member                       text    html    latex   example
** building package indices ...
* DONE (CORREP)
* creating vignettes ... OK
* removing junk files
* checking for LF line-endings in source and make files
* checking for empty or unneeded directories
* building 'CORREP_1.4.0.tar.gz'