| CORREP 1.4.0 Dongxiao Zhu
 
 | Snapshot Date: 2008-04-02 12:12:36 -0700 (Wed, 02 Apr 2008) |  | URL: https://hedgehog.fhcrc.org/bioconductor/branches/RELEASE_2_1/madman/Rpacks/CORREP |  | Last Changed Rev: 27709 / Revision: 30807 |  | Last Changed Date: 2007-10-02 17:41:09 -0700 (Tue, 02 Oct 2007) | 
 | lamb1 | Linux (SUSE 10.1) / x86_64 | OK | OK |  | 
| wilson2 | Linux (openSUSE 10.3) / x86_64 | OK | OK |  | 
| wellington | Linux (openSUSE 10.3) / i686 | OK | OK |  | 
| liverpool | Windows Server 2003 R2 (32-bit) / x64 | OK | OK | OK | 
| lemming | Windows Server 2003 (32-bit) / x64 | OK | OK | [ OK ] | 
| pitt | Mac OS X Tiger (10.4.11) / i386 | OK | OK | OK | 
installing R.css in D:/biocbld/bbs-2.1-bioc/meat/CORREP.buildbin-libdir
Using auto-selected zip options ''
---------- Making package CORREP ------------
  adding build stamp to DESCRIPTION
  installing R files
  installing inst files
  installing data files
  installing man source files
  installing indices
  not zipping data
  installing help
 >>> Building/Updating help pages for package 'CORREP'
     Formats: text html latex example chm 
  CORREP-package                    text    html    latex   example chm
  cor.LRtest                        text    html    latex   example chm
  cor.LRtest.std                    text    html    latex   example chm
  cor.balance                       text    html    latex   example chm
  cor.bootci                        text    html    latex   example chm
  cor.unbalance                     text    html    latex   example chm
  gal_all                           text    html    latex   example chm
  permutest                         text    html    latex   example chm
  true.member                       text    html    latex   example chm
HHC5012: Error: Cannot create a temporary file in your TEMP path.
HHC4016: Warning: Cannot open "ymetrix\GDAC NetAffx;c:\gs\gs8.51\bin;c:\Program Files\Java\jdk1.5.0_06\bin;c:\program files\imagemagick-6.3.2-q16;c:\Program Files\MySQL\MySQL Server 5.0\bin;c:\Program Files\ggobi".
Microsoft HTML Help Compiler 4.74.8702
Compiling d:\biocbld\bbs-2.1-bioc\meat\R.INSTALL.2552\CORREP\chm\CORREP.chm
HHC4016: Warning: Cannot open "ymetrix\GDAC NetAffx;c:\gs\gs8.51\bin;c:\Program Files\Java\jdk1.5.0_06\bin;c:\program files\imagemagick-6.3.2-q16;c:\Program Files\MySQL\MySQL Server 5.0\bin;c:\Program Files\ggobi".
The following files were not compiled:
  adding MD5 sums
packaged installation of package 'CORREP' as CORREP_1.4.0.zip
* DONE (CORREP)