Back to the "Multiple platform build/check report"
| Package 204/234 | Hostname | OS | Arch | BUILD | CHECK | BUILD BIN |
| seqLogo 1.4.0 Oliver Bembom Last Changed Date: 2007-10-02 17:41:09 -0700 Last Changed Rev: 27709 | lamb1 | Linux (SUSE 10.1) | x86_64 | OK | OK | |
| wellington | Linux (SUSE 9.2) | i686 | [ OK ] | OK | ||
| liverpool | Windows Server 2003 R2 (32-bit) | x64 | OK | OK | OK | |
| pitt | Mac OS X (10.4.10) | i386 | OK | OK | OK |
| Package: seqLogo |
| Version: 1.4.0 |
| Command: /loc/biocbuild/bbs-2.1-bioc/R/bin/R CMD build seqLogo |
| RetCode: 0 |
| Time: 14.6 seconds |
| Status: OK |
| PackageFile: seqLogo_1.4.0.tar.gz |
* checking for file 'seqLogo/DESCRIPTION' ... OK
* preparing 'seqLogo':
* checking DESCRIPTION meta-information ... OK
* installing the package to re-build vignettes
* Installing *source* package 'seqLogo' ...
** R
** inst
** preparing package for lazy loading
Loading required package: grid
Creating a new generic function for "plot" in "seqLogo"
Creating a new generic function for "summary" in "seqLogo"
Creating a new generic function for "print" in "seqLogo"
** help
>>> Building/Updating help pages for package 'seqLogo'
Formats: text html latex example
makePWM text html latex example
pwm-class text html latex example
seqLogo text html latex example
** building package indices ...
* DONE (seqLogo)
* creating vignettes ... OK
* removing junk files
* checking for LF line-endings in source and make files
* checking for empty or unneeded directories
* building 'seqLogo_1.4.0.tar.gz'