Back to the "Multiple platform build/check report"
| Package 204/234 | Hostname | OS | Arch | BUILD | CHECK | BUILD BIN |
| seqLogo 1.4.0 Oliver Bembom Last Changed Date: 2007-10-02 17:41:09 -0700 Last Changed Rev: 27709 | lamb1 | Linux (SUSE 10.1) | x86_64 | OK | OK | |
| wellington | Linux (SUSE 9.2) | i686 | OK | OK | ||
| liverpool | Windows Server 2003 R2 (32-bit) | x64 | [ OK ] | OK | OK | |
| pitt | Mac OS X (10.4.10) | i386 | OK | OK | OK |
| Package: seqLogo |
| Version: 1.4.0 |
| Command: E:\biocbld\bbs-2.1-bioc\R\bin\R.exe CMD build seqLogo |
| RetCode: 0 |
| Time: 22.3 seconds |
| Status: OK |
| PackageFile: seqLogo_1.4.0.tar.gz |
* checking for file 'seqLogo/DESCRIPTION' ... OK
* preparing 'seqLogo':
* checking DESCRIPTION meta-information ... OK
* installing the package to re-build vignettes
installing R.css in E:/biocbld/bbs-2.1-bioc/tmpdir/Rinst297247143
---------- Making package seqLogo ------------
adding build stamp to DESCRIPTION
installing NAMESPACE file and metadata
installing R files
installing inst files
preparing package seqLogo for lazy loading
Loading required package: grid
Creating a new generic function for "plot" in "seqLogo"
Creating a new generic function for "summary" in "seqLogo"
Creating a new generic function for "print" in "seqLogo"
installing man source files
installing indices
installing help
>>> Building/Updating help pages for package 'seqLogo'
Formats: text html latex example chm
makePWM text html latex example chm
pwm-class text html latex example chm
seqLogo text html latex example chm
Microsoft HTML Help Compiler 4.74.8702
Compiling e:\biocbld\bbs-2.1-bioc\meat\seqLogo\chm\seqLogo.chm
Compile time: 0 minutes, 0 seconds
4 Topics
10 Local links
0 Internet links
1 Graphic
Created e:\biocbld\bbs-2.1-bioc\meat\seqLogo\chm\seqLogo.chm, 18,426 bytes
Compression increased file by 4,824 bytes.
adding MD5 sums
* DONE (seqLogo)
* creating vignettes ... OK
* removing junk files
* checking for LF line-endings in source and make files
* checking for empty or unneeded directories
* building 'seqLogo_1.4.0.tar.gz'