Back to the "Multiple platform build/check report"
| Package 172/234 | Hostname | OS | Arch | BUILD | CHECK | BUILD BIN |
| quantsmooth 1.4.0 Jan Oosting Last Changed Date: 2007-10-02 17:41:09 -0700 Last Changed Rev: 27709 | lamb1 | Linux (SUSE 10.1) | x86_64 | OK | OK | |
| wellington | Linux (SUSE 9.2) | i686 | OK | OK | ||
| liverpool | Windows Server 2003 R2 (32-bit) | x64 | OK | OK | OK | |
| pitt | Mac OS X (10.4.10) | i386 | OK | OK | [ OK ] |
| Package: quantsmooth |
| Version: 1.4.0 |
| Command: /Users/biocbuild/BBS/utils/build-universal.sh quantsmooth_1.4.0.tar.gz /Library/Frameworks/R.framework/Resources/bin/R quantsmooth.buildbin-libdir |
| RetCode: 0 |
| Time: 5.1 seconds |
| Status: OK |
| PackageFile: quantsmooth_1.4.0.tgz |
INSTALLATION WITH 'R CMD INSTALL quantsmooth_1.4.0.tar.gz'
* Installing to library 'quantsmooth.buildbin-libdir'
* Installing *source* package 'quantsmooth' ...
** R
** data
** inst
** help
>>> Building/Updating help pages for package 'quantsmooth'
Formats: text html latex example
Chromosome14 text html latex
drawSimpleChrom text html latex example
getChangedIdx text html latex
getChangedRegions text html latex example
getLambdaMin text html latex example
lengthChromosome text html latex example
numericCHR text html latex example
paintCytobands text html latex example
plotChromosome text html latex
plotSmoothed text html latex example
prepareGenomePlot text html latex
quantsmooth text html latex example
quantsmooth.cv text html latex example
quantsmooth.seg text html latex example
scaleto text html latex
** building package indices ...
* DONE (quantsmooth)