Back to the "Multiple platform build/check report"
| Package 167/234 | Hostname | OS | Arch | BUILD | CHECK | BUILD BIN | 
| ppiStats 1.4.0 Tony Chiang Last Changed Date: 2007-10-02 17:41:09 -0700 Last Changed Rev: 27709 | lamb1 | Linux (SUSE 10.1) | x86_64 | OK | OK | |
| wellington | Linux (SUSE 9.2) | i686 | OK | OK | ||
| liverpool | Windows Server 2003 R2 (32-bit) | x64 | OK | WARNINGS | OK | |
| pitt | Mac OS X (10.4.10) | i386 | [ OK ] | OK | OK | 
| Package: ppiStats | 
| Version: 1.4.0 | 
| Command: /Library/Frameworks/R.framework/Resources/bin/R CMD build ppiStats | 
| RetCode: 0 | 
| Time: 182.2 seconds | 
| Status: OK | 
| PackageFile: ppiStats_1.4.0.tar.gz | 
* checking for file 'ppiStats/DESCRIPTION' ... OK
* preparing 'ppiStats':
* checking DESCRIPTION meta-information ... OK
* installing the package to re-build vignettes
* Installing *source* package 'ppiStats' ...
** R
** inst
** help
 >>> Building/Updating help pages for package 'ppiStats'
     Formats: text html latex example 
  assessSymmetry                    text    html    latex   example
  bpMatrix                          text    html    latex   example
  calcInOutDegStats                 text    html    latex   example
  degreeEstimates                   text    html    latex   example
  estErrProbMethodOfMoments         text    html    latex   example
  genBPGraph                        text    html    latex   example
  hgParams                          text    html    latex   example
  hgTests                           text    html    latex   example
  idProteinErrorType                text    html    latex   example
  idProteinType                     text    html    latex   example
  nullDistDoublyTestedEdges         text    html    latex   example
  twPERM                            text    html    latex   example
** building package indices ...
* DONE (ppiStats)
* creating vignettes ... OK
* removing junk files
* checking for LF line-endings in source and make files
* checking for empty or unneeded directories
* building 'ppiStats_1.4.0.tar.gz'