Back to the "Multiple platform build/check report"
| Package 167/234 | Hostname | OS | Arch | BUILD | CHECK | BUILD BIN | 
| ppiStats 1.4.0 Tony Chiang Last Changed Date: 2007-10-02 17:41:09 -0700 Last Changed Rev: 27709 | lamb1 | Linux (SUSE 10.1) | x86_64 | OK | OK | |
| wellington | Linux (SUSE 9.2) | i686 | OK | OK | ||
| liverpool | Windows Server 2003 R2 (32-bit) | x64 | OK | WARNINGS | [ OK ] | |
| pitt | Mac OS X (10.4.10) | i386 | OK | OK | OK | 
| Package: ppiStats | 
| Version: 1.4.0 | 
| Command: E:\biocbld\bbs-2.1-bioc\R\bin\R.exe CMD INSTALL --build --library=ppiStats.buildbin-libdir ppiStats_1.4.0.tar.gz | 
| RetCode: 0 | 
| Time: 16.3 seconds | 
| Status: OK | 
| PackageFile: ppiStats_1.4.0.zip | 
installing R.css in E:/biocbld/bbs-2.1-bioc/meat/ppiStats.buildbin-libdir
Using auto-selected zip options ''
---------- Making package ppiStats ------------
  adding build stamp to DESCRIPTION
  installing R files
  installing inst files
  installing man source files
  installing indices
  installing help
 >>> Building/Updating help pages for package 'ppiStats'
     Formats: text html latex example chm 
  assessSymmetry                    text    html    latex   example chm
  bpMatrix                          text    html    latex   example chm
  calcInOutDegStats                 text    html    latex   example chm
  degreeEstimates                   text    html    latex   example chm
  estErrProbMethodOfMoments         text    html    latex   example chm
  genBPGraph                        text    html    latex   example chm
  hgParams                          text    html    latex   example chm
  hgTests                           text    html    latex   example chm
  idProteinErrorType                text    html    latex   example chm
  idProteinType                     text    html    latex   example chm
  nullDistDoublyTestedEdges         text    html    latex   example chm
  twPERM                            text    html    latex   example chm
Microsoft HTML Help Compiler 4.74.8702
Compiling e:\biocbld\bbs-2.1-bioc\meat\R.INSTALL.4460\ppiStats\chm\ppiStats.chm
Compile time: 0 minutes, 1 second
13	Topics
32	Local links
2	Internet links
1	Graphic
Created e:\biocbld\bbs-2.1-bioc\meat\R.INSTALL.4460\ppiStats\chm\ppiStats.chm, 35,823 bytes
Compression decreased file by 15,401 bytes.
  adding MD5 sums
packaged installation of package 'ppiStats' as ppiStats_1.4.0.zip
* DONE (ppiStats)