Back to the "Multiple platform build/check report"
| Package 155/234 | Hostname | OS | Arch | BUILD | CHECK | BUILD BIN |
| panp 1.8.0 Peter Warren Last Changed Date: 2007-10-02 17:41:09 -0700 Last Changed Rev: 27709 | lamb1 | Linux (SUSE 10.1) | x86_64 | OK | OK | |
| wellington | Linux (SUSE 9.2) | i686 | OK | OK | ||
| liverpool | Windows Server 2003 R2 (32-bit) | x64 | OK | OK | OK | |
| pitt | Mac OS X (10.4.10) | i386 | OK | OK | [ OK ] |
| Package: panp |
| Version: 1.8.0 |
| Command: /Users/biocbuild/BBS/utils/build-universal.sh panp_1.8.0.tar.gz /Library/Frameworks/R.framework/Resources/bin/R panp.buildbin-libdir |
| RetCode: 0 |
| Time: 2.8 seconds |
| Status: OK |
| PackageFile: panp_1.8.0.tgz |
INSTALLATION WITH 'R CMD INSTALL panp_1.8.0.tar.gz'
* Installing to library 'panp.buildbin-libdir'
* Installing *source* package 'panp' ...
** R
** data
** inst
** help
>>> Building/Updating help pages for package 'panp'
Formats: text html latex example
NSMPnames.hgu133a text html latex
NSMPnames.hgu133plus2 text html latex
gcrma.ExpressionSet text html latex
pa.calls text html latex example
** building package indices ...
* DONE (panp)