Back to the "Multiple platform build/check report"
| Package 126/234 | Hostname | OS | Arch | BUILD | CHECK | BUILD BIN |
| makePlatformDesign 1.2.0 Benilton Carvalho Last Changed Date: 2007-10-02 17:41:09 -0700 Last Changed Rev: 27709 | lamb1 | Linux (SUSE 10.1) | x86_64 | OK | OK | |
| wellington | Linux (SUSE 9.2) | i686 | OK | OK | ||
| liverpool | Windows Server 2003 R2 (32-bit) | x64 | OK | OK | OK | |
| pitt | Mac OS X (10.4.10) | i386 | OK | OK | [ OK ] |
| Package: makePlatformDesign |
| Version: 1.2.0 |
| Command: /Users/biocbuild/BBS/utils/build-universal.sh makePlatformDesign_1.2.0.tar.gz /Library/Frameworks/R.framework/Resources/bin/R makePlatformDesign.buildbin-libdir |
| RetCode: 0 |
| Time: 7.9 seconds |
| Status: OK |
| PackageFile: makePlatformDesign_1.2.0.tgz |
INSTALLATION WITH 'R CMD INSTALL makePlatformDesign_1.2.0.tar.gz'
* Installing to library 'makePlatformDesign.buildbin-libdir'
* Installing *source* package 'makePlatformDesign' ...
** libs
** arch - i386
gcc-4.0 -arch i386 -isysroot /Developer/SDKs/MacOSX10.4u.sdk -std=gnu99 -no-cpp-precomp -I/Library/Frameworks/R.framework/Resources/include -I/Library/Frameworks/R.framework/Resources/include/i386 -msse3 -fPIC -g -O2 -Wall -march=nocona -c matchprobes.c -o matchprobes.o
gcc-4.0 -arch i386 -isysroot /Developer/SDKs/MacOSX10.4u.sdk -std=gnu99 -no-cpp-precomp -I/Library/Frameworks/R.framework/Resources/include -I/Library/Frameworks/R.framework/Resources/include/i386 -msse3 -fPIC -g -O2 -Wall -march=nocona -c strutils.c -o strutils.o
gcc-4.0 -arch i386 -isysroot /Developer/SDKs/MacOSX10.4u.sdk -std=gnu99 -dynamiclib -Wl,-macosx_version_min -Wl,10.3 -undefined dynamic_lookup -single_module -multiply_defined suppress -L/usr/local/lib -o makePlatformDesign.so matchprobes.o strutils.o -F/Library/Frameworks/R.framework/.. -framework R
** arch - ppc
gcc-4.0 -arch ppc -isysroot /Developer/SDKs/MacOSX10.4u.sdk -std=gnu99 -no-cpp-precomp -I/Library/Frameworks/R.framework/Resources/include -I/Library/Frameworks/R.framework/Resources/include/ppc -I/usr/local/include -fPIC -g -O2 -Wall -c matchprobes.c -o matchprobes.o
gcc-4.0 -arch ppc -isysroot /Developer/SDKs/MacOSX10.4u.sdk -std=gnu99 -no-cpp-precomp -I/Library/Frameworks/R.framework/Resources/include -I/Library/Frameworks/R.framework/Resources/include/ppc -I/usr/local/include -fPIC -g -O2 -Wall -c strutils.c -o strutils.o
gcc-4.0 -arch ppc -isysroot /Developer/SDKs/MacOSX10.4u.sdk -std=gnu99 -dynamiclib -Wl,-macosx_version_min -Wl,10.3 -undefined dynamic_lookup -single_module -multiply_defined suppress -L/usr/local/lib -o makePlatformDesign.so matchprobes.o strutils.o -F/Library/Frameworks/R.framework/.. -framework R
** R
** inst
** preparing package for lazy loading
Loading required package: affyio
Loading required package: oligo
Loading required package: Biobase
Loading required package: tools
Welcome to Bioconductor
Vignettes contain introductory material. To view, type
'openVignette()'. To cite Bioconductor, see
'citation("Biobase")' and for packages 'citation(pkgname)'.
Loading required package: splines
Loading required package: RSQLite
Loading required package: DBI
Loading required package: preprocessCore
Loading required package: AnnotationDbi
Loading required package: affxparser
Loading required package: oligoClasses
This is the oligo package
** help
>>> Building/Updating help pages for package 'makePlatformDesign'
Formats: text html latex example
makePDpackage text html latex example
makePlatformDesign-internal text html latex
** building package indices ...
* DONE (makePlatformDesign)