Back to the "Multiple platform build/check report"
| Package 126/234 | Hostname | OS | Arch | BUILD | CHECK | BUILD BIN | 
| makePlatformDesign 1.2.0 Benilton Carvalho Last Changed Date: 2007-10-02 17:41:09 -0700 Last Changed Rev: 27709  | lamb1 | Linux (SUSE 10.1) | x86_64 | [ OK ] | OK | |
| wellington | Linux (SUSE 9.2) | i686 | OK | OK | ||
| liverpool | Windows Server 2003 R2 (32-bit) | x64 | OK | OK | OK | |
| pitt | Mac OS X (10.4.10) | i386 | OK | OK | OK | 
| Package: makePlatformDesign | 
| Version: 1.2.0 | 
| Command: /home/biocbuild/bbs-2.1-bioc/R/bin/R CMD build makePlatformDesign | 
| RetCode: 0 | 
| Time: 0.5 seconds | 
| Status: OK | 
| PackageFile: makePlatformDesign_1.2.0.tar.gz | 
* checking for file 'makePlatformDesign/DESCRIPTION' ... OK * preparing 'makePlatformDesign': * checking DESCRIPTION meta-information ... OK * cleaning src * removing junk files * checking for LF line-endings in source and make files * checking for empty or unneeded directories WARNING: directory 'makePlatformDesign/inst/Code/man' is empty WARNING: directory 'makePlatformDesign/inst/Code/data' is empty * building 'makePlatformDesign_1.2.0.tar.gz'