Back to the "Multiple platform build/check report"
| Package 114/234 | Hostname | OS | Arch | BUILD | CHECK | BUILD BIN |
| limmaGUI 1.14.1 Keith Satterley Last Changed Date: 2007-10-03 19:51:29 -0700 Last Changed Rev: 27741 | lamb1 | Linux (SUSE 10.1) | x86_64 | OK | OK | |
| wellington | Linux (SUSE 9.2) | i686 | [ OK ] | OK | ||
| liverpool | Windows Server 2003 R2 (32-bit) | x64 | OK | OK | OK | |
| pitt | Mac OS X (10.4.10) | i386 | OK | OK | OK |
| Package: limmaGUI |
| Version: 1.14.1 |
| Command: /loc/biocbuild/bbs-2.1-bioc/R/bin/R CMD build limmaGUI |
| RetCode: 0 |
| Time: 19.8 seconds |
| Status: OK |
| PackageFile: limmaGUI_1.14.1.tar.gz |
* checking for file 'limmaGUI/DESCRIPTION' ... OK
* preparing 'limmaGUI':
* checking DESCRIPTION meta-information ... OK
* installing the package to re-build vignettes
* Installing *source* package 'limmaGUI' ...
** R
** inst
** preparing package for lazy loading
Loading required package: limma
Loading required package: tcltk
Loading Tcl/Tk interface ... done
** help
Note: unmatched right brace in 'limmaGUI' on or after line 139
>>> Building/Updating help pages for package 'limmaGUI'
Formats: text html latex example
LGchangelog text html latex
limmaGUI text html latex
** building package indices ...
* DONE (limmaGUI)
* creating vignettes ... OK
* removing junk files
* checking for LF line-endings in source and make files
* checking for empty or unneeded directories
* building 'limmaGUI_1.14.1.tar.gz'