Back to the "Multiple platform build/check report"
| Package 114/234 | Hostname | OS | Arch | BUILD | CHECK | BUILD BIN |
| limmaGUI 1.14.1 Keith Satterley Last Changed Date: 2007-10-03 19:51:29 -0700 Last Changed Rev: 27741 | lamb1 | Linux (SUSE 10.1) | x86_64 | OK | OK | |
| wellington | Linux (SUSE 9.2) | i686 | OK | OK | ||
| liverpool | Windows Server 2003 R2 (32-bit) | x64 | [ OK ] | OK | OK | |
| pitt | Mac OS X (10.4.10) | i386 | OK | OK | OK |
| Package: limmaGUI |
| Version: 1.14.1 |
| Command: E:\biocbld\bbs-2.1-bioc\R\bin\R.exe CMD build limmaGUI |
| RetCode: 0 |
| Time: 33.4 seconds |
| Status: OK |
| PackageFile: limmaGUI_1.14.1.tar.gz |
* checking for file 'limmaGUI/DESCRIPTION' ... OK
* preparing 'limmaGUI':
* checking DESCRIPTION meta-information ... OK
* installing the package to re-build vignettes
installing R.css in E:/biocbld/bbs-2.1-bioc/tmpdir/Rinst480426760
---------- Making package limmaGUI ------------
adding build stamp to DESCRIPTION
installing R files
installing inst files
installing man source files
installing indices
installing help
Note: unmatched right brace in 'limmaGUI' on or after line 139
Note: unmatched right brace in 'limmaGUI.Rd' on or after line 139
>>> Building/Updating help pages for package 'limmaGUI'
Formats: text html latex example chm
LGchangelog text html latex chm
limmaGUI text html latex chm
Microsoft HTML Help Compiler 4.74.8702
Compiling e:\biocbld\bbs-2.1-bioc\meat\limmaGUI\chm\limmaGUI.chm
Compile time: 0 minutes, 1 second
3 Topics
137 Local links
0 Internet links
1 Graphic
Created e:\biocbld\bbs-2.1-bioc\meat\limmaGUI\chm\limmaGUI.chm, 26,551 bytes
Compression decreased file by 36,974 bytes.
preparing package limmaGUI for lazy loading
Loading required package: limma
Loading required package: tcltk
Loading Tcl/Tk interface ... done
adding MD5 sums
* DONE (limmaGUI)
* creating vignettes ... OK
* removing junk files
* checking for LF line-endings in source and make files
* checking for empty or unneeded directories
* building 'limmaGUI_1.14.1.tar.gz'