Back to the "Multiple platform build/check report"
| Package 32/234 | Hostname | OS | Arch | BUILD | CHECK | BUILD BIN | 
| biocGraph 1.0.0 Li Long Last Changed Date: 2007-10-05 18:29:06 -0700 Last Changed Rev: 27811 | lamb1 | Linux (SUSE 10.1) | x86_64 | OK | OK | |
| wellington | Linux (SUSE 9.2) | i686 | OK | OK | ||
| liverpool | Windows Server 2003 R2 (32-bit) | x64 | OK | [ OK ] | OK | |
| pitt | Mac OS X (10.4.10) | i386 | OK | OK | OK | 
| Package: biocGraph | 
| Version: 1.0.0 | 
| Command: E:\biocbld\bbs-2.1-bioc\R\bin\R.exe CMD check biocGraph_1.0.0.tar.gz | 
| RetCode: 0 | 
| Time: 89.9 seconds | 
| Status: OK | 
| CheckDir: biocGraph.Rcheck | 
| Warnings: 0 | 
* checking for working latex ... OK * using log directory 'E:/biocbld/bbs-2.1-bioc/meat/biocGraph.Rcheck' * using R version 2.6.0 (2007-10-03) * checking for file 'biocGraph/DESCRIPTION' ... OK * this is package 'biocGraph' version '1.0.0' * checking package name space information ... OK * checking package dependencies ... OK * checking if this is a source package ... OK * checking whether package 'biocGraph' can be installed ... OK * checking package directory ... OK * checking for portable file names ... OK * checking DESCRIPTION meta-information ... OK * checking top-level files ... OK * checking index information ... OK * checking package subdirectories ... OK * checking R files for non-ASCII characters ... OK * checking R files for syntax errors ... OK * checking whether the package can be loaded ... OK * checking whether the package can be loaded with stated dependencies ... OK * checking whether the name space can be loaded with stated dependencies ... OK * checking for unstated dependencies in R code ... OK * checking S3 generic/method consistency ... OK * checking replacement functions ... OK * checking foreign function calls ... OK * checking R code for possible problems ... OK * checking Rd files ... OK * checking Rd cross-references ... OK * checking for missing documentation entries ... OK * checking for code/documentation mismatches ... OK * checking Rd \usage sections ... OK * creating biocGraph-Ex.R ... OK * checking examples ... OK * checking package vignettes in 'inst/doc' ... OK * creating biocGraph-manual.tex ... OK * checking biocGraph-manual.tex ... OK
biocGraph.Rcheck/00install.out:
installing R.css in E:/biocbld/bbs-2.1-bioc/meat/biocGraph.Rcheck
---------- Making package biocGraph ------------
  adding build stamp to DESCRIPTION
  installing NAMESPACE file and metadata
  installing R files
  installing inst files
  preparing package biocGraph for lazy loading
Loading required package: graph
Loading required package: geneplotter
Loading required package: annotate
Loading required package: Biobase
Loading required package: tools
Welcome to Bioconductor
  Vignettes contain introductory material. To view, type
  'openVignette()'. To cite Bioconductor, see
  'citation("Biobase")' and for packages 'citation(pkgname)'.
Loading required package: AnnotationDbi
Loading required package: DBI
Loading required package: RSQLite
Loading required package: xtable
Loading required package: lattice
KernSmooth 2.22 installed
Copyright M. P. Wand 1997
Loading required package: Rgraphviz
Attaching package: 'Rgraphviz'
	The following object(s) are masked from package:annotate :
	 toFile 
Loading required package: fibroEset
Loading required package: hgu95av2
  installing man source files
  installing indices
  installing help
 >>> Building/Updating help pages for package 'biocGraph'
     Formats: text html latex example chm 
  imageMap                          text    html    latex   example chm
Microsoft HTML Help Compiler 4.74.8702
Compiling e:\biocbld\bbs-2.1-bioc\meat\biocGraph.Rcheck\00_pkg_src\biocGraph\chm\biocGraph.chm
Compile time: 0 minutes, 0 seconds
2	Topics
6	Local links
1	Internet link
1	Graphic
Created e:\biocbld\bbs-2.1-bioc\meat\biocGraph.Rcheck\00_pkg_src\biocGraph\chm\biocGraph.chm, 19,246 bytes
Compression increased file by 7,219 bytes.
  adding MD5 sums
* DONE (biocGraph)