Back to the "Multiple platform build/check report"
| Package 32/234 | Hostname | OS | Arch | BUILD | CHECK | BUILD BIN |
| biocGraph 1.0.0 Li Long Last Changed Date: 2007-10-05 18:29:06 -0700 Last Changed Rev: 27811 | lamb1 | Linux (SUSE 10.1) | x86_64 | OK | OK | |
| wellington | Linux (SUSE 9.2) | i686 | OK | OK | ||
| liverpool | Windows Server 2003 R2 (32-bit) | x64 | OK | OK | [ OK ] | |
| pitt | Mac OS X (10.4.10) | i386 | OK | OK | OK |
| Package: biocGraph |
| Version: 1.0.0 |
| Command: E:\biocbld\bbs-2.1-bioc\R\bin\R.exe CMD INSTALL --build --library=biocGraph.buildbin-libdir biocGraph_1.0.0.tar.gz |
| RetCode: 0 |
| Time: 19.3 seconds |
| Status: OK |
| PackageFile: biocGraph_1.0.0.zip |
installing R.css in E:/biocbld/bbs-2.1-bioc/meat/biocGraph.buildbin-libdir
Using auto-selected zip options ''
---------- Making package biocGraph ------------
adding build stamp to DESCRIPTION
installing NAMESPACE file and metadata
installing R files
installing inst files
preparing package biocGraph for lazy loading
Loading required package: graph
Loading required package: geneplotter
Loading required package: annotate
Loading required package: Biobase
Loading required package: tools
Welcome to Bioconductor
Vignettes contain introductory material. To view, type
'openVignette()'. To cite Bioconductor, see
'citation("Biobase")' and for packages 'citation(pkgname)'.
Loading required package: AnnotationDbi
Loading required package: DBI
Loading required package: RSQLite
Loading required package: xtable
Loading required package: lattice
KernSmooth 2.22 installed
Copyright M. P. Wand 1997
Loading required package: Rgraphviz
Attaching package: 'Rgraphviz'
The following object(s) are masked from package:annotate :
toFile
Loading required package: fibroEset
Loading required package: hgu95av2
installing man source files
installing indices
installing help
>>> Building/Updating help pages for package 'biocGraph'
Formats: text html latex example chm
imageMap text html latex example chm
Microsoft HTML Help Compiler 4.74.8702
Compiling e:\biocbld\bbs-2.1-bioc\meat\R.INSTALL.840\biocGraph\chm\biocGraph.chm
Compile time: 0 minutes, 1 second
2 Topics
6 Local links
1 Internet link
1 Graphic
Created e:\biocbld\bbs-2.1-bioc\meat\R.INSTALL.840\biocGraph\chm\biocGraph.chm, 19,246 bytes
Compression increased file by 7,219 bytes.
adding MD5 sums
packaged installation of package 'biocGraph' as biocGraph_1.0.0.zip
* DONE (biocGraph)