Back to the "Multiple platform build/check report"
| Package 11/234 | Hostname | OS | Arch | BUILD | CHECK | BUILD BIN | 
| affylmGUI 1.12.0 Keith Satterley Last Changed Date: 2007-10-02 17:41:09 -0700 Last Changed Rev: 27709 | lamb1 | Linux (SUSE 10.1) | x86_64 | OK | OK | |
| wellington | Linux (SUSE 9.2) | i686 | OK | OK | ||
| liverpool | Windows Server 2003 R2 (32-bit) | x64 | OK | OK | OK | |
| pitt | Mac OS X (10.4.10) | i386 | [ OK ] | OK | OK | 
| Package: affylmGUI | 
| Version: 1.12.0 | 
| Command: /Library/Frameworks/R.framework/Resources/bin/R CMD build affylmGUI | 
| RetCode: 0 | 
| Time: 10.8 seconds | 
| Status: OK | 
| PackageFile: affylmGUI_1.12.0.tar.gz | 
* checking for file 'affylmGUI/DESCRIPTION' ... OK
* preparing 'affylmGUI':
* checking DESCRIPTION meta-information ... OK
* installing the package to re-build vignettes
* Installing *source* package 'affylmGUI' ...
** R
** inst
** preparing package for lazy loading
Loading required package: limma
Loading required package: tcltk
Loading Tcl/Tk interface ... done
Loading required package: affy
Loading required package: Biobase
Loading required package: tools
Welcome to Bioconductor
  Vignettes contain introductory material. To view, type
  'openVignette()'. To cite Bioconductor, see
  'citation("Biobase")' and for packages 'citation(pkgname)'.
Loading required package: affyio
Loading required package: preprocessCore
** help
 >>> Building/Updating help pages for package 'affylmGUI'
     Formats: text html latex example 
  ALGchangeLog                      text    html    latex
  affylmGUI                         text    html    latex
** building package indices ...
* DONE (affylmGUI)
* creating vignettes ... OK
* removing junk files
* checking for LF line-endings in source and make files
* checking for empty or unneeded directories
* building 'affylmGUI_1.12.0.tar.gz'