Back to the "Multiple platform build/check report"
| Package 11/234 | Hostname | OS | Arch | BUILD | CHECK | BUILD BIN |
| affylmGUI 1.12.0 Keith Satterley Last Changed Date: 2007-10-02 17:41:09 -0700 Last Changed Rev: 27709 | lamb1 | Linux (SUSE 10.1) | x86_64 | OK | OK | |
| wellington | Linux (SUSE 9.2) | i686 | OK | OK | ||
| liverpool | Windows Server 2003 R2 (32-bit) | x64 | OK | OK | [ OK ] | |
| pitt | Mac OS X (10.4.10) | i386 | OK | OK | OK |
| Package: affylmGUI |
| Version: 1.12.0 |
| Command: E:\biocbld\bbs-2.1-bioc\R\bin\R.exe CMD INSTALL --build --library=affylmGUI.buildbin-libdir affylmGUI_1.12.0.tar.gz |
| RetCode: 0 |
| Time: 17.5 seconds |
| Status: OK |
| PackageFile: affylmGUI_1.12.0.zip |
installing R.css in E:/biocbld/bbs-2.1-bioc/meat/affylmGUI.buildbin-libdir
Using auto-selected zip options ''
---------- Making package affylmGUI ------------
adding build stamp to DESCRIPTION
installing R files
installing inst files
installing man source files
installing indices
installing help
>>> Building/Updating help pages for package 'affylmGUI'
Formats: text html latex example chm
ALGchangeLog text html latex chm
affylmGUI text html latex chm
Microsoft HTML Help Compiler 4.74.8702
Compiling e:\biocbld\bbs-2.1-bioc\meat\R.INSTALL.4336\affylmGUI\chm\affylmGUI.chm
Compile time: 0 minutes, 0 seconds
3 Topics
111 Local links
0 Internet links
1 Graphic
Created e:\biocbld\bbs-2.1-bioc\meat\R.INSTALL.4336\affylmGUI\chm\affylmGUI.chm, 25,134 bytes
Compression decreased file by 28,974 bytes.
preparing package affylmGUI for lazy loading
Loading required package: limma
Loading required package: tcltk
Loading Tcl/Tk interface ... done
Loading required package: affy
Loading required package: Biobase
Loading required package: tools
Welcome to Bioconductor
Vignettes contain introductory material. To view, type
'openVignette()'. To cite Bioconductor, see
'citation("Biobase")' and for packages 'citation(pkgname)'.
Loading required package: affyio
Loading required package: preprocessCore
adding MD5 sums
packaged installation of package 'affylmGUI' as affylmGUI_1.12.0.zip
* DONE (affylmGUI)