Back to the "Multiple platform build/check report"
| Package 189/234 | Hostname | OS | Arch | BUILD | CHECK | BUILD BIN |
| RLMM 1.0.0 Nusrat Rabbee Last Changed Date: 2007-10-05 18:35:11 -0700 Last Changed Rev: 27815 | lamb1 | Linux (SUSE 10.1) | x86_64 | OK | OK | |
| wellington | Linux (SUSE 9.2) | i686 | OK | OK | ||
| liverpool | Windows Server 2003 R2 (32-bit) | x64 | OK | OK | OK | |
| pitt | Mac OS X (10.4.10) | i386 | OK | OK | [ OK ] |
| Package: RLMM |
| Version: 1.0.0 |
| Command: /Users/biocbuild/BBS/utils/build-universal.sh RLMM_1.0.0.tar.gz /Library/Frameworks/R.framework/Resources/bin/R RLMM.buildbin-libdir |
| RetCode: 0 |
| Time: 2.8 seconds |
| Status: OK |
| PackageFile: RLMM_1.0.0.tgz |
INSTALLATION WITH 'R CMD INSTALL RLMM_1.0.0.tar.gz'
* Installing to library 'RLMM.buildbin-libdir'
* Installing *source* package 'RLMM' ...
** R
** inst
** help
>>> Building/Updating help pages for package 'RLMM'
Formats: text html latex example
Classify text html latex
create_Thetafile text html latex
normalize_Rawfiles text html latex
plot_theta text html latex
** building package indices ...
* DONE (RLMM)