Back to the "Multiple platform build/check report"
| Package 189/234 | Hostname | OS | Arch | BUILD | CHECK | BUILD BIN |
| RLMM 1.0.0 Nusrat Rabbee Last Changed Date: 2007-10-05 18:35:11 -0700 Last Changed Rev: 27815 | lamb1 | Linux (SUSE 10.1) | x86_64 | OK | OK | |
| wellington | Linux (SUSE 9.2) | i686 | OK | OK | ||
| liverpool | Windows Server 2003 R2 (32-bit) | x64 | OK | OK | [ OK ] | |
| pitt | Mac OS X (10.4.10) | i386 | OK | OK | OK |
| Package: RLMM |
| Version: 1.0.0 |
| Command: E:\biocbld\bbs-2.1-bioc\R\bin\R.exe CMD INSTALL --build --library=RLMM.buildbin-libdir RLMM_1.0.0.tar.gz |
| RetCode: 0 |
| Time: 14.1 seconds |
| Status: OK |
| PackageFile: RLMM_1.0.0.zip |
installing R.css in E:/biocbld/bbs-2.1-bioc/meat/RLMM.buildbin-libdir
Using auto-selected zip options ''
---------- Making package RLMM ------------
adding build stamp to DESCRIPTION
installing R files
installing inst files
installing man source files
installing indices
installing help
>>> Building/Updating help pages for package 'RLMM'
Formats: text html latex example chm
Classify text html latex chm
create_Thetafile text html latex chm
normalize_Rawfiles text html latex chm
plot_theta text html latex chm
Microsoft HTML Help Compiler 4.74.8702
Compiling e:\biocbld\bbs-2.1-bioc\meat\R.INSTALL.792\RLMM\chm\RLMM.chm
Compile time: 0 minutes, 0 seconds
5 Topics
8 Local links
0 Internet links
1 Graphic
Created e:\biocbld\bbs-2.1-bioc\meat\R.INSTALL.792\RLMM\chm\RLMM.chm, 19,831 bytes
Compression increased file by 4,919 bytes.
adding MD5 sums
packaged installation of package 'RLMM' as RLMM_1.0.0.zip
* DONE (RLMM)