Back to the "Multiple platform build/check report"
| Package 99/234 | Hostname | OS | Arch | BUILD | CHECK | BUILD BIN |
| Heatplus 1.8.0 Alexander Ploner Last Changed Date: 2007-10-02 17:41:09 -0700 Last Changed Rev: 27709 | lamb1 | Linux (SUSE 10.1) | x86_64 | OK | OK | |
| wellington | Linux (SUSE 9.2) | i686 | OK | OK | ||
| liverpool | Windows Server 2003 R2 (32-bit) | x64 | OK | OK | OK | |
| pitt | Mac OS X (10.4.10) | i386 | [ OK ] | OK | OK |
| Package: Heatplus |
| Version: 1.8.0 |
| Command: /Library/Frameworks/R.framework/Resources/bin/R CMD build Heatplus |
| RetCode: 0 |
| Time: 10.8 seconds |
| Status: OK |
| PackageFile: Heatplus_1.8.0.tar.gz |
* checking for file 'Heatplus/DESCRIPTION' ... OK
* preparing 'Heatplus':
* checking DESCRIPTION meta-information ... OK
* installing the package to re-build vignettes
* Installing *source* package 'Heatplus' ...
** R
** inst
** help
>>> Building/Updating help pages for package 'Heatplus'
Formats: text html latex example
RGBColVec text html latex example
cutplot.dendrogram text html latex example
heatmap_2 text html latex example
heatmap_plus text html latex example
picketplot text html latex example
** building package indices ...
* DONE (Heatplus)
* creating vignettes ... OK
* removing junk files
* checking for LF line-endings in source and make files
* checking for empty or unneeded directories
* building 'Heatplus_1.8.0.tar.gz'