Back to the "Multiple platform build/check report"
| Package 99/234 | Hostname | OS | Arch | BUILD | CHECK | BUILD BIN |
| Heatplus 1.8.0 Alexander Ploner Last Changed Date: 2007-10-02 17:41:09 -0700 Last Changed Rev: 27709 | lamb1 | Linux (SUSE 10.1) | x86_64 | OK | OK | |
| wellington | Linux (SUSE 9.2) | i686 | OK | OK | ||
| liverpool | Windows Server 2003 R2 (32-bit) | x64 | [ OK ] | OK | OK | |
| pitt | Mac OS X (10.4.10) | i386 | OK | OK | OK |
| Package: Heatplus |
| Version: 1.8.0 |
| Command: E:\biocbld\bbs-2.1-bioc\R\bin\R.exe CMD build Heatplus |
| RetCode: 0 |
| Time: 25.3 seconds |
| Status: OK |
| PackageFile: Heatplus_1.8.0.tar.gz |
* checking for file 'Heatplus/DESCRIPTION' ... OK
* preparing 'Heatplus':
* checking DESCRIPTION meta-information ... OK
* installing the package to re-build vignettes
installing R.css in E:/biocbld/bbs-2.1-bioc/tmpdir/Rinst489629342
---------- Making package Heatplus ------------
adding build stamp to DESCRIPTION
installing R files
installing inst files
installing man source files
installing indices
installing help
>>> Building/Updating help pages for package 'Heatplus'
Formats: text html latex example chm
RGBColVec text html latex example chm
cutplot.dendrogram text html latex example chm
heatmap_2 text html latex example chm
heatmap_plus text html latex example chm
picketplot text html latex example chm
Microsoft HTML Help Compiler 4.74.8702
Compiling e:\biocbld\bbs-2.1-bioc\meat\Heatplus\chm\Heatplus.chm
Compile time: 0 minutes, 0 seconds
6 Topics
17 Local links
0 Internet links
1 Graphic
Created e:\biocbld\bbs-2.1-bioc\meat\Heatplus\chm\Heatplus.chm, 28,557 bytes
Compression decreased file by 2,926 bytes.
adding MD5 sums
* DONE (Heatplus)
* creating vignettes ... OK
* removing junk files
* checking for LF line-endings in source and make files
* checking for empty or unneeded directories
* building 'Heatplus_1.8.0.tar.gz'