Back to the "Multiple platform build/check report"
| Package 96/234 | Hostname | OS | Arch | BUILD | CHECK | BUILD BIN |
| GraphAT 1.10.0 Thomas LaFramboise Last Changed Date: 2007-10-02 17:41:09 -0700 Last Changed Rev: 27709 | lamb1 | Linux (SUSE 10.1) | x86_64 | OK | OK | |
| wellington | Linux (SUSE 9.2) | i686 | N O T S U P P O R T E D | |||
| liverpool | Windows Server 2003 R2 (32-bit) | x64 | OK | OK | OK | |
| pitt | Mac OS X (10.4.10) | i386 | [ OK ] | OK | OK | |
| Package: GraphAT |
| Version: 1.10.0 |
| Command: /Library/Frameworks/R.framework/Resources/bin/R CMD build GraphAT |
| RetCode: 0 |
| Time: 2.8 seconds |
| Status: OK |
| PackageFile: GraphAT_1.10.0.tar.gz |
* checking for file 'GraphAT/DESCRIPTION' ... OK * preparing 'GraphAT': * checking DESCRIPTION meta-information ... OK * removing junk files * checking for LF line-endings in source and make files * checking for empty or unneeded directories * building 'GraphAT_1.10.0.tar.gz'