Back to the "Multiple platform build/check report"
| Package 96/234 | Hostname | OS | Arch | BUILD | CHECK | BUILD BIN |
| GraphAT 1.10.0 Thomas LaFramboise Last Changed Date: 2007-10-02 17:41:09 -0700 Last Changed Rev: 27709 | lamb1 | Linux (SUSE 10.1) | x86_64 | OK | OK | |
| wellington | Linux (SUSE 9.2) | i686 | N O T S U P P O R T E D | |||
| liverpool | Windows Server 2003 R2 (32-bit) | x64 | OK | OK | OK | |
| pitt | Mac OS X (10.4.10) | i386 | OK | OK | [ OK ] | |
| Package: GraphAT |
| Version: 1.10.0 |
| Command: /Users/biocbuild/BBS/utils/build-universal.sh GraphAT_1.10.0.tar.gz /Library/Frameworks/R.framework/Resources/bin/R GraphAT.buildbin-libdir |
| RetCode: 0 |
| Time: 13.4 seconds |
| Status: OK |
| PackageFile: GraphAT_1.10.0.tgz |
INSTALLATION WITH 'R CMD INSTALL GraphAT_1.10.0.tar.gz'
* Installing to library 'GraphAT.buildbin-libdir'
* Installing *source* package 'GraphAT' ...
** R
** data
** help
>>> Building/Updating help pages for package 'GraphAT'
Formats: text html latex example
Phenoclusters text html latex example
causton text html latex example
cellcycle text html latex example
clust2Mat text html latex example
depthmat text html latex example
getpvalue text html latex example
giaever text html latex example
mRNAclusters text html latex example
makeClustM text html latex example
mat2UndirG text html latex example
permPower text html latex example
perms text html latex example
** building package indices ...
* DONE (GraphAT)