Back to the "Multiple platform build/check report"
| Package 84/234 | Hostname | OS | Arch | BUILD | CHECK | BUILD BIN |
| GeneticsDesign 1.4.0 Weiliang Qiu Last Changed Date: 2007-10-02 17:41:09 -0700 Last Changed Rev: 27709 | lamb1 | Linux (SUSE 10.1) | x86_64 | OK | OK | |
| wellington | Linux (SUSE 9.2) | i686 | [ OK ] | OK | ||
| liverpool | Windows Server 2003 R2 (32-bit) | x64 | OK | OK | OK | |
| pitt | Mac OS X (10.4.10) | i386 | OK | OK | OK |
| Package: GeneticsDesign |
| Version: 1.4.0 |
| Command: /loc/biocbuild/bbs-2.1-bioc/R/bin/R CMD build GeneticsDesign |
| RetCode: 0 |
| Time: 12.8 seconds |
| Status: OK |
| PackageFile: GeneticsDesign_1.4.0.tar.gz |
* checking for file 'GeneticsDesign/DESCRIPTION' ... OK
* preparing 'GeneticsDesign':
* checking DESCRIPTION meta-information ... OK
* installing the package to re-build vignettes
* Installing *source* package 'GeneticsDesign' ...
** R
** inst
** help
>>> Building/Updating help pages for package 'GeneticsDesign'
Formats: text html latex example
GPC text html latex example
gregorius text html latex example
power.casectlr text html latex example
power.genotype.conti text html latex example
** building package indices ...
* DONE (GeneticsDesign)
* creating vignettes ... OK
* removing junk files
* checking for LF line-endings in source and make files
* checking for empty or unneeded directories
* building 'GeneticsDesign_1.4.0.tar.gz'