Back to the "Multiple platform build/check report"
| Package 84/234 | Hostname | OS | Arch | BUILD | CHECK | BUILD BIN |
| GeneticsDesign 1.4.0 Weiliang Qiu Last Changed Date: 2007-10-02 17:41:09 -0700 Last Changed Rev: 27709 | lamb1 | Linux (SUSE 10.1) | x86_64 | OK | OK | |
| wellington | Linux (SUSE 9.2) | i686 | OK | OK | ||
| liverpool | Windows Server 2003 R2 (32-bit) | x64 | OK | [ OK ] | OK | |
| pitt | Mac OS X (10.4.10) | i386 | OK | OK | OK |
| Package: GeneticsDesign |
| Version: 1.4.0 |
| Command: E:\biocbld\bbs-2.1-bioc\R\bin\R.exe CMD check GeneticsDesign_1.4.0.tar.gz |
| RetCode: 0 |
| Time: 37.0 seconds |
| Status: OK |
| CheckDir: GeneticsDesign.Rcheck |
| Warnings: 0 |
* checking for working latex ... OK * using log directory 'E:/biocbld/bbs-2.1-bioc/meat/GeneticsDesign.Rcheck' * using R version 2.6.0 (2007-10-03) * checking for file 'GeneticsDesign/DESCRIPTION' ... OK * this is package 'GeneticsDesign' version '1.4.0' * checking package name space information ... OK * checking package dependencies ... OK * checking if this is a source package ... OK * checking whether package 'GeneticsDesign' can be installed ... OK * checking package directory ... OK * checking for portable file names ... OK * checking DESCRIPTION meta-information ... OK * checking top-level files ... OK * checking index information ... OK * checking package subdirectories ... OK * checking R files for non-ASCII characters ... OK * checking R files for syntax errors ... OK * checking whether the package can be loaded ... OK * checking whether the package can be loaded with stated dependencies ... OK * checking whether the name space can be loaded with stated dependencies ... OK * checking for unstated dependencies in R code ... OK * checking S3 generic/method consistency ... OK * checking replacement functions ... OK * checking foreign function calls ... OK * checking R code for possible problems ... OK * checking Rd files ... OK * checking Rd cross-references ... OK * checking for missing documentation entries ... OK * checking for code/documentation mismatches ... OK * checking Rd \usage sections ... OK * creating GeneticsDesign-Ex.R ... OK * checking examples ... OK * checking package vignettes in 'inst/doc' ... OK * creating GeneticsDesign-manual.tex ... OK * checking GeneticsDesign-manual.tex ... OK
GeneticsDesign.Rcheck/00install.out:
installing R.css in E:/biocbld/bbs-2.1-bioc/meat/GeneticsDesign.Rcheck
---------- Making package GeneticsDesign ------------
adding build stamp to DESCRIPTION
installing NAMESPACE file and metadata
installing R files
installing inst files
installing man source files
installing indices
installing help
>>> Building/Updating help pages for package 'GeneticsDesign'
Formats: text html latex example chm
GPC text html latex example chm
gregorius text html latex example chm
power.casectlr text html latex example chm
power.genotype.conti text html latex example chm
Microsoft HTML Help Compiler 4.74.8702
Compiling e:\biocbld\bbs-2.1-bioc\meat\GeneticsDesign.Rcheck\00_pkg_src\GeneticsDesign\chm\GeneticsDesign.chm
Compile time: 0 minutes, 0 seconds
5 Topics
10 Local links
0 Internet links
1 Graphic
Created e:\biocbld\bbs-2.1-bioc\meat\GeneticsDesign.Rcheck\00_pkg_src\GeneticsDesign\chm\GeneticsDesign.chm, 26,991 bytes
Compression decreased file by 61 bytes.
adding MD5 sums
* DONE (GeneticsDesign)