Back to the "Multiple platform build/check report"
| Package 62/234 | Hostname | OS | Arch | BUILD | CHECK | BUILD BIN |
| DynDoc 1.16.0 Biocore Team c/o BioC user list Last Changed Date: 2007-10-02 17:41:09 -0700 Last Changed Rev: 27709 | lamb1 | Linux (SUSE 10.1) | x86_64 | OK | OK | |
| wellington | Linux (SUSE 9.2) | i686 | OK | [ OK ] | ||
| liverpool | Windows Server 2003 R2 (32-bit) | x64 | OK | OK | OK | |
| pitt | Mac OS X (10.4.10) | i386 | OK | OK | OK |
| Package: DynDoc |
| Version: 1.16.0 |
| Command: /loc/biocbuild/bbs-2.1-bioc/R/bin/R CMD check DynDoc_1.16.0.tar.gz |
| RetCode: 0 |
| Time: 56.8 seconds |
| Status: OK |
| CheckDir: DynDoc.Rcheck |
| Warnings: 0 |
* checking for working latex ... OK * using log directory '/extra/loc/biocbuild/bbs-2.1-bioc/meat/DynDoc.Rcheck' * using R version 2.6.0 (2007-10-03) * checking for file 'DynDoc/DESCRIPTION' ... OK * this is package 'DynDoc' version '1.16.0' * checking package name space information ... OK * checking package dependencies ... OK * checking if this is a source package ... OK * checking whether package 'DynDoc' can be installed ... OK * checking package directory ... OK * checking for portable file names ... OK * checking for sufficient/correct file permissions ... OK * checking DESCRIPTION meta-information ... OK * checking top-level files ... OK * checking index information ... OK * checking package subdirectories ... OK * checking R files for non-ASCII characters ... OK * checking R files for syntax errors ... OK * checking whether the package can be loaded ... OK * checking whether the package can be loaded with stated dependencies ... OK * checking whether the name space can be loaded with stated dependencies ... OK * checking for unstated dependencies in R code ... OK * checking S3 generic/method consistency ... OK * checking replacement functions ... OK * checking foreign function calls ... OK * checking R code for possible problems ... NOTE editVignetteCode : copyEnv: no visible global function definition for 'l2e' getVignette: no visible global function definition for 'buildVersionNumber' * checking Rd files ... OK * checking Rd cross-references ... OK * checking for missing documentation entries ... OK * checking for code/documentation mismatches ... OK * checking Rd \usage sections ... OK * creating DynDoc-Ex.R ... OK * checking examples ... OK * creating DynDoc-manual.tex ... OK * checking DynDoc-manual.tex ... OK
DynDoc.Rcheck/00install.out:
* Installing *source* package 'DynDoc' ...
** R
** preparing package for lazy loading
Creating a new generic function for "summary" in "DynDoc"
** help
>>> Building/Updating help pages for package 'DynDoc'
Formats: text html latex example
DynDoc-class text html latex
SweaveOptions-class text html latex
Vignette-class text html latex
chunkList-class text html latex example
codeChunk-class text html latex example
getPkgVigList text html latex example
getVignette text html latex
getVignetteCode text html latex
getVignetteHeader text html latex
tangleToR text html latex example
vignetteCode-class text html latex
** building package indices ...
* DONE (DynDoc)