Back to the "Multiple platform build/check report"
| Package 62/234 | Hostname | OS | Arch | BUILD | CHECK | BUILD BIN |
| DynDoc 1.16.0 Biocore Team c/o BioC user list Last Changed Date: 2007-10-02 17:41:09 -0700 Last Changed Rev: 27709 | lamb1 | Linux (SUSE 10.1) | x86_64 | OK | OK | |
| wellington | Linux (SUSE 9.2) | i686 | OK | OK | ||
| liverpool | Windows Server 2003 R2 (32-bit) | x64 | OK | OK | OK | |
| pitt | Mac OS X (10.4.10) | i386 | OK | OK | [ OK ] |
| Package: DynDoc |
| Version: 1.16.0 |
| Command: /Users/biocbuild/BBS/utils/build-universal.sh DynDoc_1.16.0.tar.gz /Library/Frameworks/R.framework/Resources/bin/R DynDoc.buildbin-libdir |
| RetCode: 0 |
| Time: 5.8 seconds |
| Status: OK |
| PackageFile: DynDoc_1.16.0.tgz |
INSTALLATION WITH 'R CMD INSTALL DynDoc_1.16.0.tar.gz'
* Installing to library 'DynDoc.buildbin-libdir'
* Installing *source* package 'DynDoc' ...
** R
** preparing package for lazy loading
Creating a new generic function for "summary" in "DynDoc"
** help
>>> Building/Updating help pages for package 'DynDoc'
Formats: text html latex example
DynDoc-class text html latex
SweaveOptions-class text html latex
Vignette-class text html latex
chunkList-class text html latex example
codeChunk-class text html latex example
getPkgVigList text html latex example
getVignette text html latex
getVignetteCode text html latex
getVignetteHeader text html latex
tangleToR text html latex example
vignetteCode-class text html latex
** building package indices ...
* DONE (DynDoc)