Back to the "Multiple platform build/check report"
| Package 41/234 | Hostname | OS | Arch | BUILD | CHECK | BUILD BIN |
| BufferedMatrixMethods 1.2.0 B. M. Bolstad Last Changed Date: 2007-10-02 17:41:09 -0700 Last Changed Rev: 27709 | lamb1 | Linux (SUSE 10.1) | x86_64 | OK | OK | |
| wellington | Linux (SUSE 9.2) | i686 | OK | OK | ||
| liverpool | Windows Server 2003 R2 (32-bit) | x64 | OK | OK | OK | |
| pitt | Mac OS X (10.4.10) | i386 | [ OK ] | OK | OK |
| Package: BufferedMatrixMethods |
| Version: 1.2.0 |
| Command: /Library/Frameworks/R.framework/Resources/bin/R CMD build BufferedMatrixMethods |
| RetCode: 0 |
| Time: 0.8 seconds |
| Status: OK |
| PackageFile: BufferedMatrixMethods_1.2.0.tar.gz |
* checking for file 'BufferedMatrixMethods/DESCRIPTION' ... OK * preparing 'BufferedMatrixMethods': * checking DESCRIPTION meta-information ... OK * cleaning src * removing junk files * checking for LF line-endings in source and make files * checking for empty or unneeded directories * building 'BufferedMatrixMethods_1.2.0.tar.gz'