Back to the "Multiple platform build/check report"
| Package 9/234 | Hostname | OS | Arch | BUILD | CHECK | BUILD BIN |
| AffyExpress 1.2.0 Xuejun Arthur Li Last Changed Date: 2007-10-02 17:41:09 -0700 Last Changed Rev: 27709 | lamb1 | Linux (SUSE 10.1) | x86_64 | OK | OK | |
| wellington | Linux (SUSE 9.2) | i686 | OK | OK | ||
| liverpool | Windows Server 2003 R2 (32-bit) | x64 | OK | OK | OK | |
| pitt | Mac OS X (10.4.10) | i386 | OK | OK | [ OK ] |
| Package: AffyExpress |
| Version: 1.2.0 |
| Command: /Users/biocbuild/BBS/utils/build-universal.sh AffyExpress_1.2.0.tar.gz /Library/Frameworks/R.framework/Resources/bin/R AffyExpress.buildbin-libdir |
| RetCode: 0 |
| Time: 8.1 seconds |
| Status: OK |
| PackageFile: AffyExpress_1.2.0.tgz |
INSTALLATION WITH 'R CMD INSTALL AffyExpress_1.2.0.tar.gz'
* Installing to library 'AffyExpress.buildbin-libdir'
* Installing *source* package 'AffyExpress' ...
** R
** data
** inst
** help
>>> Building/Updating help pages for package 'AffyExpress'
Formats: text html latex example
AffyInteraction text html latex example
AffyQA text html latex example
AffyRegress text html latex example
Filter text html latex example
interaction.result2html text html latex example
make.contrast text html latex example
make.design text html latex example
post.interaction text html latex example
pre.process text html latex example
regress text html latex example
result2html text html latex example
select.sig.gene text html latex example
testData text html latex
** building package indices ...
* DONE (AffyExpress)