Back to the "Multiple platform build/check report"
| IMPORTANT NOTE: R was configured with --enable-strict-barrier on lamb1 |
| Package 229/247 | Hostname | OS | Arch | BUILD | CHECK | BUILD BIN |
splots1.3.1Oleg SklyarLast Changed Date: 2007-08-19 15:00:56 -0700 Last Changed Rev: 26513 | lamb1 | Linux (SUSE 10.1) | x86_64 | OK | OK | |
| wellington | Linux (SUSE 9.2) | i686 | OK | OK | ||
| liverpool | Windows Server 2003 R2 (32-bit) | x64 | OK | OK | OK | |
| pitt | Mac OS X (10.4.10) | i386 | OK | OK | [ OK ] |
| Package: splots |
| Version: 1.3.1 |
| Command: /Users/biocbuild/BBS/utils/build-universal.sh splots_1.3.1.tar.gz /Library/Frameworks/R.framework/Resources/bin/R splots.buildbin-libdir |
| RetCode: 0 |
| Time: 3.6 seconds |
| Status: OK |
| PackageFile: splots_1.3.1.tgz |
INSTALLATION WITH 'R CMD INSTALL splots_1.3.1.tar.gz'
* Installing to library 'splots.buildbin-libdir'
* Installing *source* package 'splots' ...
** R
** data
** inst
** preparing package for lazy loading
Loading required package: grid
** help
>>> Building/Updating help pages for package 'splots'
Formats: text html latex example
internals text html latex
plotScreen text html latex example
** building package indices ...
* DONE (splots)