Back to the "Multiple platform build/check report"
| IMPORTANT NOTE: R was configured with --enable-strict-barrier on lamb1 |
| Package 177/247 | Hostname | OS | Arch | BUILD | CHECK | BUILD BIN |
ppiStats1.3.8Tony ChiangLast Changed Date: 2007-07-06 03:09:46 -0700 Last Changed Rev: 25673 | lamb1 | Linux (SUSE 10.1) | x86_64 | OK | WARNINGS | |
| wellington | Linux (SUSE 9.2) | i686 | OK | WARNINGS | ||
| liverpool | Windows Server 2003 R2 (32-bit) | x64 | OK | WARNINGS | OK | |
| pitt | Mac OS X (10.4.10) | i386 | OK | WARNINGS | [ OK ] |
| Package: ppiStats |
| Version: 1.3.8 |
| Command: /Users/biocbuild/BBS/utils/build-universal.sh ppiStats_1.3.8.tar.gz /Library/Frameworks/R.framework/Resources/bin/R ppiStats.buildbin-libdir |
| RetCode: 0 |
| Time: 3.6 seconds |
| Status: OK |
| PackageFile: ppiStats_1.3.8.tgz |
INSTALLATION WITH 'R CMD INSTALL ppiStats_1.3.8.tar.gz'
* Installing to library 'ppiStats.buildbin-libdir'
* Installing *source* package 'ppiStats' ...
** R
** inst
** help
>>> Building/Updating help pages for package 'ppiStats'
Formats: text html latex example
assessSymmetry text html latex example
bpMatrix text html latex example
calcInOutDegStats text html latex example
estErrProbMethodOfMoments text html latex example
genBPGraph text html latex example
hgParams text html latex example
hgTests text html latex example
idProteinErrorType text html latex example
idProteinType text html latex example
nullDistDoublyTestedEdges text html latex example
twPERM text html latex example
** building package indices ...
* DONE (ppiStats)