Back to the "Multiple platform build/check report"
| IMPORTANT NOTE: R was configured with --enable-strict-barrier on lamb1 |
| Package 176/247 | Hostname | OS | Arch | BUILD | CHECK | BUILD BIN |
plier1.7.0Crispin MillerLast Changed Date: 2007-08-14 02:42:58 -0700 Last Changed Rev: 26393 | lamb1 | Linux (SUSE 10.1) | x86_64 | OK | OK | |
| wellington | Linux (SUSE 9.2) | i686 | OK | OK | ||
| liverpool | Windows Server 2003 R2 (32-bit) | x64 | OK | OK | OK | |
| pitt | Mac OS X (10.4.10) | i386 | [ OK ] | OK | OK |
| Package: plier |
| Version: 1.7.0 |
| Command: /Library/Frameworks/R.framework/Resources/bin/R CMD build plier |
| RetCode: 0 |
| Time: 0.8 seconds |
| Status: OK |
| PackageFile: plier_1.7.0.tar.gz |
* checking for file 'plier/DESCRIPTION' ... OK * preparing 'plier': * checking DESCRIPTION meta-information ... OK * cleaning src * removing junk files * checking for LF line-endings in source and make files * checking for empty or unneeded directories * building 'plier_1.7.0.tar.gz'