Back to the "Multiple platform build/check report"
| IMPORTANT NOTE: R was configured with --enable-strict-barrier on lamb1 |
| Package 176/247 | Hostname | OS | Arch | BUILD | CHECK | BUILD BIN |
plier1.7.0Crispin MillerLast Changed Date: 2007-08-14 02:42:58 -0700 Last Changed Rev: 26393 | lamb1 | Linux (SUSE 10.1) | x86_64 | OK | OK | |
| wellington | Linux (SUSE 9.2) | i686 | OK | OK | ||
| liverpool | Windows Server 2003 R2 (32-bit) | x64 | OK | OK | OK | |
| pitt | Mac OS X (10.4.10) | i386 | OK | OK | [ OK ] |
| Package: plier |
| Version: 1.7.0 |
| Command: /Users/biocbuild/BBS/utils/build-universal.sh plier_1.7.0.tar.gz /Library/Frameworks/R.framework/Resources/bin/R plier.buildbin-libdir |
| RetCode: 0 |
| Time: 6.8 seconds |
| Status: OK |
| PackageFile: plier_1.7.0.tgz |
INSTALLATION WITH 'R CMD INSTALL plier_1.7.0.tar.gz'
* Installing to library 'plier.buildbin-libdir'
* Installing *source* package 'plier' ...
** libs
** arch - i386
g++-4.0 -arch i386 -isysroot /Developer/SDKs/MacOSX10.4u.sdk -no-cpp-precomp -I/Library/Frameworks/R.framework/Resources/include -I/Library/Frameworks/R.framework/Resources/include/i386 -msse3 -fPIC -g -O2 -Wall -march=nocona -c affyplier.cpp -o affyplier.o
g++-4.0 -arch i386 -isysroot /Developer/SDKs/MacOSX10.4u.sdk -no-cpp-precomp -I/Library/Frameworks/R.framework/Resources/include -I/Library/Frameworks/R.framework/Resources/include/i386 -msse3 -fPIC -g -O2 -Wall -march=nocona -c plier_impl.cpp -o plier_impl.o
g++-4.0 -arch i386 -isysroot /Developer/SDKs/MacOSX10.4u.sdk -no-cpp-precomp -I/Library/Frameworks/R.framework/Resources/include -I/Library/Frameworks/R.framework/Resources/include/i386 -msse3 -fPIC -g -O2 -Wall -march=nocona -c plieralg.cpp -o plieralg.o
plieralg.cpp: In function 'long int NewtonPlier(plier_data*, double&)':
plieralg.cpp:909: warning: 'LogLikelihood' may be used uninitialized in this function
plieralg.cpp: At global scope:
plieralg.cpp:48: warning: 'g_ErrorCode' defined but not used
g++-4.0 -arch i386 -isysroot /Developer/SDKs/MacOSX10.4u.sdk -no-cpp-precomp -I/Library/Frameworks/R.framework/Resources/include -I/Library/Frameworks/R.framework/Resources/include/i386 -msse3 -fPIC -g -O2 -Wall -march=nocona -c rwrapper.cpp -o rwrapper.o
rwrapper.cpp: In function 'void an_experiment(bool*, double*, double*, double*, double*, double*, double*, double*, double*, int*, double*, int*, bool*, bool*, bool*, double*, double*, int*, int*, int*, int*, double*, double*, char**, double*, double*, int*)':
rwrapper.cpp:341: warning: too many arguments for format
rwrapper.cpp: In function 'void one_probeset(bool*, double*, double*, double*, double*, double*, double*, double*, double*, int*, double*, int*, bool*, bool*, bool*, double*, double*, int*, int*, int*, long int*, double*, double*, double*, double*, int*)':
rwrapper.cpp:162: warning: 'rpct' is used uninitialized in this function
g++-4.0 -arch i386 -isysroot /Developer/SDKs/MacOSX10.4u.sdk -dynamiclib -Wl,-macosx_version_min -Wl,10.3 -undefined dynamic_lookup -single_module -multiply_defined suppress -L/usr/local/lib -o plier.so affyplier.o plier_impl.o plieralg.o rwrapper.o -F/Library/Frameworks/R.framework/.. -framework R
** arch - ppc
g++-4.0 -arch ppc -isysroot /Developer/SDKs/MacOSX10.4u.sdk -no-cpp-precomp -I/Library/Frameworks/R.framework/Resources/include -I/Library/Frameworks/R.framework/Resources/include/ppc -I/usr/local/include -fPIC -g -O2 -Wall -c affyplier.cpp -o affyplier.o
g++-4.0 -arch ppc -isysroot /Developer/SDKs/MacOSX10.4u.sdk -no-cpp-precomp -I/Library/Frameworks/R.framework/Resources/include -I/Library/Frameworks/R.framework/Resources/include/ppc -I/usr/local/include -fPIC -g -O2 -Wall -c plier_impl.cpp -o plier_impl.o
g++-4.0 -arch ppc -isysroot /Developer/SDKs/MacOSX10.4u.sdk -no-cpp-precomp -I/Library/Frameworks/R.framework/Resources/include -I/Library/Frameworks/R.framework/Resources/include/ppc -I/usr/local/include -fPIC -g -O2 -Wall -c plieralg.cpp -o plieralg.o
plieralg.cpp: In function 'long int NewtonPlier(plier_data*, double&)':
plieralg.cpp:909: warning: 'LogLikelihood' may be used uninitialized in this function
plieralg.cpp: At global scope:
plieralg.cpp:48: warning: 'g_ErrorCode' defined but not used
g++-4.0 -arch ppc -isysroot /Developer/SDKs/MacOSX10.4u.sdk -no-cpp-precomp -I/Library/Frameworks/R.framework/Resources/include -I/Library/Frameworks/R.framework/Resources/include/ppc -I/usr/local/include -fPIC -g -O2 -Wall -c rwrapper.cpp -o rwrapper.o
rwrapper.cpp: In function 'void an_experiment(bool*, double*, double*, double*, double*, double*, double*, double*, double*, int*, double*, int*, bool*, bool*, bool*, double*, double*, int*, int*, int*, int*, double*, double*, char**, double*, double*, int*)':
rwrapper.cpp:341: warning: too many arguments for format
rwrapper.cpp: In function 'void one_probeset(bool*, double*, double*, double*, double*, double*, double*, double*, double*, int*, double*, int*, bool*, bool*, bool*, double*, double*, int*, int*, int*, long int*, double*, double*, double*, double*, int*)':
rwrapper.cpp:162: warning: 'rpct' is used uninitialized in this function
g++-4.0 -arch ppc -isysroot /Developer/SDKs/MacOSX10.4u.sdk -dynamiclib -Wl,-macosx_version_min -Wl,10.3 -undefined dynamic_lookup -single_module -multiply_defined suppress -L/usr/local/lib -o plier.so affyplier.o plier_impl.o plieralg.o rwrapper.o -F/Library/Frameworks/R.framework/.. -framework R
** R
** help
>>> Building/Updating help pages for package 'plier'
Formats: text html latex example
justPlier text html latex example
** building package indices ...
* DONE (plier)