Back to the "Multiple platform build/check report"
| IMPORTANT NOTE: R was configured with --enable-strict-barrier on lamb1 |
| Package 169/247 | Hostname | OS | Arch | BUILD | CHECK | BUILD BIN |
pdInfoBuilder1.1.9Seth FalconLast Changed Date: 2007-08-01 22:50:01 -0700 Last Changed Rev: 26123 | lamb1 | Linux (SUSE 10.1) | x86_64 | OK | WARNINGS | |
| wellington | Linux (SUSE 9.2) | i686 | OK | WARNINGS | ||
| liverpool | Windows Server 2003 R2 (32-bit) | x64 | OK | WARNINGS | OK | |
| pitt | Mac OS X (10.4.10) | i386 | OK | WARNINGS | [ OK ] |
| Package: pdInfoBuilder |
| Version: 1.1.9 |
| Command: /Users/biocbuild/BBS/utils/build-universal.sh pdInfoBuilder_1.1.9.tar.gz /Library/Frameworks/R.framework/Resources/bin/R pdInfoBuilder.buildbin-libdir |
| RetCode: 0 |
| Time: 9.9 seconds |
| Status: OK |
| PackageFile: pdInfoBuilder_1.1.9.tgz |
INSTALLATION WITH 'R CMD INSTALL pdInfoBuilder_1.1.9.tar.gz'
* Installing to library 'pdInfoBuilder.buildbin-libdir'
* Installing *source* package 'pdInfoBuilder' ...
** libs
** arch - i386
gcc-4.0 -arch i386 -isysroot /Developer/SDKs/MacOSX10.4u.sdk -no-cpp-precomp -I/Library/Frameworks/R.framework/Resources/include -I/Library/Frameworks/R.framework/Resources/include/i386 -msse3 -D__NO_MATH_INLINES -fPIC -g -O2 -Wall -std=gnu99 -march=nocona -c pdInfoBuilder.c -o pdInfoBuilder.o
gcc-4.0 -arch i386 -isysroot /Developer/SDKs/MacOSX10.4u.sdk -dynamiclib -Wl,-macosx_version_min -Wl,10.3 -undefined dynamic_lookup -single_module -multiply_defined suppress -L/usr/local/lib -o pdInfoBuilder.so pdInfoBuilder.o -F/Library/Frameworks/R.framework/.. -framework R
** arch - ppc
gcc-4.0 -arch ppc -isysroot /Developer/SDKs/MacOSX10.4u.sdk -std=gnu99 -no-cpp-precomp -I/Library/Frameworks/R.framework/Resources/include -I/Library/Frameworks/R.framework/Resources/include/ppc -I/usr/local/include -fPIC -g -O2 -Wall -c pdInfoBuilder.c -o pdInfoBuilder.o
gcc-4.0 -arch ppc -isysroot /Developer/SDKs/MacOSX10.4u.sdk -std=gnu99 -dynamiclib -Wl,-macosx_version_min -Wl,10.3 -undefined dynamic_lookup -single_module -multiply_defined suppress -L/usr/local/lib -o pdInfoBuilder.so pdInfoBuilder.o -F/Library/Frameworks/R.framework/.. -framework R
** R
** inst
** preparing package for lazy loading
Loading required package: Biobase
Loading required package: tools
Welcome to Bioconductor
Vignettes contain introductory material. To view, type
'openVignette()'. To cite Bioconductor, see
'citation("Biobase")' and for packages 'citation(pkgname)'.
Loading required package: RSQLite
Loading required package: DBI
Loading required package: affxparser
Loading required package: oligo
Loading required package: affyio
Loading required package: splines
Loading required package: BufferedMatrix
Loading required package: BufferedMatrixMethods
Loading required package: preprocessCore
Loading required package: AnnotationDbi
This is the oligo package
** help
>>> Building/Updating help pages for package 'pdInfoBuilder'
Formats: text html latex example
AffySNPPDInfoPkgSeed-class text html latex example
PDInfoPkgSeed-class text html latex example
PkgSeed-class text html latex example
chipName text html latex
makePdInfoPackage text html latex example
** building package indices ...
* DONE (pdInfoBuilder)