Back to the "Multiple platform build/check report"
| IMPORTANT NOTE: R was configured with --enable-strict-barrier on lamb1 |
| Package 157/247 | Hostname | OS | Arch | BUILD | CHECK | BUILD BIN |
oligoClasses0.0.2Benilton CarvalhoLast Changed Date: 2007-08-22 06:27:40 -0700 Last Changed Rev: 26586 | lamb1 | Linux (SUSE 10.1) | x86_64 | OK | WARNINGS | |
| wellington | Linux (SUSE 9.2) | i686 | OK | WARNINGS | ||
| liverpool | Windows Server 2003 R2 (32-bit) | x64 | OK | WARNINGS | OK | |
| pitt | Mac OS X (10.4.10) | i386 | OK | WARNINGS | [ OK ] |
| Package: oligoClasses |
| Version: 0.0.2 |
| Command: /Users/biocbuild/BBS/utils/build-universal.sh oligoClasses_0.0.2.tar.gz /Library/Frameworks/R.framework/Resources/bin/R oligoClasses.buildbin-libdir |
| RetCode: 0 |
| Time: 3.8 seconds |
| Status: OK |
| PackageFile: oligoClasses_0.0.2.tgz |
INSTALLATION WITH 'R CMD INSTALL oligoClasses_0.0.2.tar.gz'
* Installing to library 'oligoClasses.buildbin-libdir'
* Installing *source* package 'oligoClasses' ...
** R
** preparing package for lazy loading
Loading required package: Biobase
Loading required package: tools
Welcome to Bioconductor
Vignettes contain introductory material. To view, type
'openVignette()'. To cite Bioconductor, see
'citation("Biobase")' and for packages 'citation(pkgname)'.
No man pages found in package 'oligoClasses'
** building package indices ...
* DONE (oligoClasses)